BEGIN:VCALENDAR
VERSION:2.0
PRODID:-//City of Bellevue, Idaho - ECPv6.15.20//NONSGML v1.0//EN
CALSCALE:GREGORIAN
METHOD:PUBLISH
X-ORIGINAL-URL:https://bellevueidaho.gov/es/
X-WR-CALDESC:Eventos para City of Bellevue, Idaho
REFRESH-INTERVAL;VALUE=DURATION:PT1H
X-Robots-Tag:noindex
X-PUBLISHED-TTL:PT1H
BEGIN:VTIMEZONE
TZID:America/Boise
BEGIN:DAYLIGHT
TZOFFSETFROM:-0700
TZOFFSETTO:-0600
TZNAME:MDT
DTSTART:20270314T090000
END:DAYLIGHT
BEGIN:STANDARD
TZOFFSETFROM:-0600
TZOFFSETTO:-0700
TZNAME:MST
DTSTART:20271107T080000
END:STANDARD
BEGIN:DAYLIGHT
TZOFFSETFROM:-0700
TZOFFSETTO:-0600
TZNAME:MDT
DTSTART:20280312T090000
END:DAYLIGHT
BEGIN:STANDARD
TZOFFSETFROM:-0600
TZOFFSETTO:-0700
TZNAME:MST
DTSTART:20281105T080000
END:STANDARD
BEGIN:DAYLIGHT
TZOFFSETFROM:-0700
TZOFFSETTO:-0600
TZNAME:MDT
DTSTART:20290311T090000
END:DAYLIGHT
BEGIN:STANDARD
TZOFFSETFROM:-0600
TZOFFSETTO:-0700
TZNAME:MST
DTSTART:20291104T080000
END:STANDARD
END:VTIMEZONE
BEGIN:VEVENT
DTSTART;TZID=America/Boise:20280207T173000
DTEND;TZID=America/Boise:20280207T193000
DTSTAMP:20260422T115541
CREATED:20250607T005423Z
LAST-MODIFIED:20250607T005423Z
UID:10002233-1833557400-1833564600@bellevueidaho.gov
SUMMARY:Reunión del Comité de Planificación y Zonificación
DESCRIPTION:Nombre del documentoTipo DocumentoOpciones
URL:https://bellevueidaho.gov/es/event/reunion-del-comite-de-planificacion-y-zonificacion-10/2028-02-07/
LOCATION:Sala de reuniones del Ayuntamiento\, 83313\, United States
CATEGORIES:Reuniones de las Comisiones de Planificación y Zonificación
ORGANIZER;CN="Comisi%C3%B3n de Planificaci%C3%B3n y Ordenaci%C3%B3n Territorial":MAILTO:cityclerk@bellevueidaho.us
END:VEVENT
BEGIN:VEVENT
DTSTART;TZID=America/Boise:20280221T173000
DTEND;TZID=America/Boise:20280221T193000
DTSTAMP:20260422T115541
CREATED:20250304T235102Z
LAST-MODIFIED:20250923T201624Z
UID:10001197-1834767000-1834774200@bellevueidaho.gov
SUMMARY:Reunión de la Comisión de Planificación y Ordenación Territorial
DESCRIPTION:Nombre del documentoTipo DocumentoOpciones
URL:https://bellevueidaho.gov/es/event/reunion-del-comite-de-planificacion-y-zonificacion-3/2028-02-21/
LOCATION:Sala de reuniones del Ayuntamiento\, 83313\, United States
ORGANIZER;CN="Comisi%C3%B3n de Planificaci%C3%B3n y Ordenaci%C3%B3n Territorial":MAILTO:cityclerk@bellevueidaho.us
END:VEVENT
BEGIN:VEVENT
DTSTART;TZID=America/Boise:20280221T173000
DTEND;TZID=America/Boise:20280221T193000
DTSTAMP:20260422T115541
CREATED:20251103T152516Z
LAST-MODIFIED:20251103T152516Z
UID:10002597-1834767000-1834774200@bellevueidaho.gov
SUMMARY:Reunión del Comité de Planificación y Zonificación
DESCRIPTION:Nombre del documentoTipo DocumentoOpciones
URL:https://bellevueidaho.gov/es/event/reunion-del-comite-de-planificacion-y-zonificacion-13/2028-02-21/
LOCATION:Sala de reuniones del Ayuntamiento\, 83313\, United States
CATEGORIES:Reuniones de las Comisiones de Planificación y Zonificación
ORGANIZER;CN="Comisi%C3%B3n de Planificaci%C3%B3n y Ordenaci%C3%B3n Territorial":MAILTO:cityclerk@bellevueidaho.us
END:VEVENT
BEGIN:VEVENT
DTSTART;TZID=America/Boise:20280306T173000
DTEND;TZID=America/Boise:20280306T193000
DTSTAMP:20260422T115541
CREATED:20250304T234054Z
LAST-MODIFIED:20250428T195503Z
UID:10001273-1835976600-1835983800@bellevueidaho.gov
SUMMARY:Reunión del Comité de Planificación y Zonificación
DESCRIPTION:
URL:https://bellevueidaho.gov/es/event/reunion-del-comite-de-planificacion-y-zonificacion-4/2028-03-06/
LOCATION:Sala de reuniones del Ayuntamiento\, 83313\, United States
CATEGORIES:Reuniones de las Comisiones de Planificación y Zonificación
ORGANIZER;CN="Comisi%C3%B3n de Planificaci%C3%B3n y Ordenaci%C3%B3n Territorial":MAILTO:cityclerk@bellevueidaho.us
END:VEVENT
BEGIN:VEVENT
DTSTART;TZID=America/Boise:20280306T173000
DTEND;TZID=America/Boise:20280306T193000
DTSTAMP:20260422T115541
CREATED:20250607T005423Z
LAST-MODIFIED:20250607T005423Z
UID:10002234-1835976600-1835983800@bellevueidaho.gov
SUMMARY:Reunión del Comité de Planificación y Zonificación
DESCRIPTION:Nombre del documentoTipo DocumentoOpciones
URL:https://bellevueidaho.gov/es/event/reunion-del-comite-de-planificacion-y-zonificacion-10/2028-03-06/
LOCATION:Sala de reuniones del Ayuntamiento\, 83313\, United States
CATEGORIES:Reuniones de las Comisiones de Planificación y Zonificación
ORGANIZER;CN="Comisi%C3%B3n de Planificaci%C3%B3n y Ordenaci%C3%B3n Territorial":MAILTO:cityclerk@bellevueidaho.us
END:VEVENT
BEGIN:VEVENT
DTSTART;TZID=America/Boise:20280320T173000
DTEND;TZID=America/Boise:20280320T193000
DTSTAMP:20260422T115541
CREATED:20250304T235102Z
LAST-MODIFIED:20250923T201624Z
UID:10001198-1837186200-1837193400@bellevueidaho.gov
SUMMARY:Reunión de la Comisión de Planificación y Ordenación Territorial
DESCRIPTION:Nombre del documentoTipo DocumentoOpciones
URL:https://bellevueidaho.gov/es/event/reunion-del-comite-de-planificacion-y-zonificacion-3/2028-03-20/
LOCATION:Sala de reuniones del Ayuntamiento\, 83313\, United States
ORGANIZER;CN="Comisi%C3%B3n de Planificaci%C3%B3n y Ordenaci%C3%B3n Territorial":MAILTO:cityclerk@bellevueidaho.us
END:VEVENT
BEGIN:VEVENT
DTSTART;TZID=America/Boise:20280320T173000
DTEND;TZID=America/Boise:20280320T193000
DTSTAMP:20260422T115541
CREATED:20251103T152516Z
LAST-MODIFIED:20251103T152516Z
UID:10002598-1837186200-1837193400@bellevueidaho.gov
SUMMARY:Reunión del Comité de Planificación y Zonificación
DESCRIPTION:Nombre del documentoTipo DocumentoOpciones
URL:https://bellevueidaho.gov/es/event/reunion-del-comite-de-planificacion-y-zonificacion-13/2028-03-20/
LOCATION:Sala de reuniones del Ayuntamiento\, 83313\, United States
CATEGORIES:Reuniones de las Comisiones de Planificación y Zonificación
ORGANIZER;CN="Comisi%C3%B3n de Planificaci%C3%B3n y Ordenaci%C3%B3n Territorial":MAILTO:cityclerk@bellevueidaho.us
END:VEVENT
BEGIN:VEVENT
DTSTART;TZID=America/Boise:20280403T173000
DTEND;TZID=America/Boise:20280403T193000
DTSTAMP:20260422T115541
CREATED:20250304T234054Z
LAST-MODIFIED:20250428T195503Z
UID:10001274-1838395800-1838403000@bellevueidaho.gov
SUMMARY:Reunión del Comité de Planificación y Zonificación
DESCRIPTION:
URL:https://bellevueidaho.gov/es/event/reunion-del-comite-de-planificacion-y-zonificacion-4/2028-04-03/
LOCATION:Sala de reuniones del Ayuntamiento\, 83313\, United States
CATEGORIES:Reuniones de las Comisiones de Planificación y Zonificación
ORGANIZER;CN="Comisi%C3%B3n de Planificaci%C3%B3n y Ordenaci%C3%B3n Territorial":MAILTO:cityclerk@bellevueidaho.us
END:VEVENT
BEGIN:VEVENT
DTSTART;TZID=America/Boise:20280403T173000
DTEND;TZID=America/Boise:20280403T193000
DTSTAMP:20260422T115541
CREATED:20250607T005423Z
LAST-MODIFIED:20250607T005423Z
UID:10002235-1838395800-1838403000@bellevueidaho.gov
SUMMARY:Reunión del Comité de Planificación y Zonificación
DESCRIPTION:Nombre del documentoTipo DocumentoOpciones
URL:https://bellevueidaho.gov/es/event/reunion-del-comite-de-planificacion-y-zonificacion-10/2028-04-03/
LOCATION:Sala de reuniones del Ayuntamiento\, 83313\, United States
CATEGORIES:Reuniones de las Comisiones de Planificación y Zonificación
ORGANIZER;CN="Comisi%C3%B3n de Planificaci%C3%B3n y Ordenaci%C3%B3n Territorial":MAILTO:cityclerk@bellevueidaho.us
END:VEVENT
BEGIN:VEVENT
DTSTART;TZID=America/Boise:20280417T173000
DTEND;TZID=America/Boise:20280417T193000
DTSTAMP:20260422T115541
CREATED:20250304T235102Z
LAST-MODIFIED:20250923T201624Z
UID:10001199-1839605400-1839612600@bellevueidaho.gov
SUMMARY:Reunión de la Comisión de Planificación y Ordenación Territorial
DESCRIPTION:Nombre del documentoTipo DocumentoOpciones
URL:https://bellevueidaho.gov/es/event/reunion-del-comite-de-planificacion-y-zonificacion-3/2028-04-17/
LOCATION:Sala de reuniones del Ayuntamiento\, 83313\, United States
ORGANIZER;CN="Comisi%C3%B3n de Planificaci%C3%B3n y Ordenaci%C3%B3n Territorial":MAILTO:cityclerk@bellevueidaho.us
END:VEVENT
BEGIN:VEVENT
DTSTART;TZID=America/Boise:20280417T173000
DTEND;TZID=America/Boise:20280417T193000
DTSTAMP:20260422T115541
CREATED:20251103T152516Z
LAST-MODIFIED:20251103T152516Z
UID:10002599-1839605400-1839612600@bellevueidaho.gov
SUMMARY:Reunión del Comité de Planificación y Zonificación
DESCRIPTION:Nombre del documentoTipo DocumentoOpciones
URL:https://bellevueidaho.gov/es/event/reunion-del-comite-de-planificacion-y-zonificacion-13/2028-04-17/
LOCATION:Sala de reuniones del Ayuntamiento\, 83313\, United States
CATEGORIES:Reuniones de las Comisiones de Planificación y Zonificación
ORGANIZER;CN="Comisi%C3%B3n de Planificaci%C3%B3n y Ordenaci%C3%B3n Territorial":MAILTO:cityclerk@bellevueidaho.us
END:VEVENT
BEGIN:VEVENT
DTSTART;TZID=America/Boise:20280501T173000
DTEND;TZID=America/Boise:20280501T193000
DTSTAMP:20260422T115541
CREATED:20250304T234054Z
LAST-MODIFIED:20250428T195503Z
UID:10001275-1840815000-1840822200@bellevueidaho.gov
SUMMARY:Reunión del Comité de Planificación y Zonificación
DESCRIPTION:
URL:https://bellevueidaho.gov/es/event/reunion-del-comite-de-planificacion-y-zonificacion-4/2028-05-01/
LOCATION:Sala de reuniones del Ayuntamiento\, 83313\, United States
CATEGORIES:Reuniones de las Comisiones de Planificación y Zonificación
ORGANIZER;CN="Comisi%C3%B3n de Planificaci%C3%B3n y Ordenaci%C3%B3n Territorial":MAILTO:cityclerk@bellevueidaho.us
END:VEVENT
BEGIN:VEVENT
DTSTART;TZID=America/Boise:20280501T173000
DTEND;TZID=America/Boise:20280501T193000
DTSTAMP:20260422T115541
CREATED:20250607T005423Z
LAST-MODIFIED:20250607T005423Z
UID:10002236-1840815000-1840822200@bellevueidaho.gov
SUMMARY:Reunión del Comité de Planificación y Zonificación
DESCRIPTION:Nombre del documentoTipo DocumentoOpciones
URL:https://bellevueidaho.gov/es/event/reunion-del-comite-de-planificacion-y-zonificacion-10/2028-05-01/
LOCATION:Sala de reuniones del Ayuntamiento\, 83313\, United States
CATEGORIES:Reuniones de las Comisiones de Planificación y Zonificación
ORGANIZER;CN="Comisi%C3%B3n de Planificaci%C3%B3n y Ordenaci%C3%B3n Territorial":MAILTO:cityclerk@bellevueidaho.us
END:VEVENT
BEGIN:VEVENT
DTSTART;TZID=America/Boise:20280515T173000
DTEND;TZID=America/Boise:20280515T193000
DTSTAMP:20260422T115541
CREATED:20250304T235102Z
LAST-MODIFIED:20250923T201624Z
UID:10001200-1842024600-1842031800@bellevueidaho.gov
SUMMARY:Reunión de la Comisión de Planificación y Ordenación Territorial
DESCRIPTION:Nombre del documentoTipo DocumentoOpciones
URL:https://bellevueidaho.gov/es/event/reunion-del-comite-de-planificacion-y-zonificacion-3/2028-05-15/
LOCATION:Sala de reuniones del Ayuntamiento\, 83313\, United States
ORGANIZER;CN="Comisi%C3%B3n de Planificaci%C3%B3n y Ordenaci%C3%B3n Territorial":MAILTO:cityclerk@bellevueidaho.us
END:VEVENT
BEGIN:VEVENT
DTSTART;TZID=America/Boise:20280515T173000
DTEND;TZID=America/Boise:20280515T193000
DTSTAMP:20260422T115541
CREATED:20251103T152516Z
LAST-MODIFIED:20251103T152516Z
UID:10002600-1842024600-1842031800@bellevueidaho.gov
SUMMARY:Reunión del Comité de Planificación y Zonificación
DESCRIPTION:Nombre del documentoTipo DocumentoOpciones
URL:https://bellevueidaho.gov/es/event/reunion-del-comite-de-planificacion-y-zonificacion-13/2028-05-15/
LOCATION:Sala de reuniones del Ayuntamiento\, 83313\, United States
CATEGORIES:Reuniones de las Comisiones de Planificación y Zonificación
ORGANIZER;CN="Comisi%C3%B3n de Planificaci%C3%B3n y Ordenaci%C3%B3n Territorial":MAILTO:cityclerk@bellevueidaho.us
END:VEVENT
BEGIN:VEVENT
DTSTART;TZID=America/Boise:20280605T173000
DTEND;TZID=America/Boise:20280605T193000
DTSTAMP:20260422T115541
CREATED:20250304T234054Z
LAST-MODIFIED:20250428T195503Z
UID:10001276-1843839000-1843846200@bellevueidaho.gov
SUMMARY:Reunión del Comité de Planificación y Zonificación
DESCRIPTION:
URL:https://bellevueidaho.gov/es/event/reunion-del-comite-de-planificacion-y-zonificacion-4/2028-06-05/
LOCATION:Sala de reuniones del Ayuntamiento\, 83313\, United States
CATEGORIES:Reuniones de las Comisiones de Planificación y Zonificación
ORGANIZER;CN="Comisi%C3%B3n de Planificaci%C3%B3n y Ordenaci%C3%B3n Territorial":MAILTO:cityclerk@bellevueidaho.us
END:VEVENT
BEGIN:VEVENT
DTSTART;TZID=America/Boise:20280605T173000
DTEND;TZID=America/Boise:20280605T193000
DTSTAMP:20260422T115541
CREATED:20250607T005423Z
LAST-MODIFIED:20250607T005423Z
UID:10002237-1843839000-1843846200@bellevueidaho.gov
SUMMARY:Reunión del Comité de Planificación y Zonificación
DESCRIPTION:Nombre del documentoTipo DocumentoOpciones
URL:https://bellevueidaho.gov/es/event/reunion-del-comite-de-planificacion-y-zonificacion-10/2028-06-05/
LOCATION:Sala de reuniones del Ayuntamiento\, 83313\, United States
CATEGORIES:Reuniones de las Comisiones de Planificación y Zonificación
ORGANIZER;CN="Comisi%C3%B3n de Planificaci%C3%B3n y Ordenaci%C3%B3n Territorial":MAILTO:cityclerk@bellevueidaho.us
END:VEVENT
BEGIN:VEVENT
DTSTART;TZID=America/Boise:20280619T173000
DTEND;TZID=America/Boise:20280619T193000
DTSTAMP:20260422T115541
CREATED:20250304T235102Z
LAST-MODIFIED:20250923T201624Z
UID:10001201-1845048600-1845055800@bellevueidaho.gov
SUMMARY:Reunión de la Comisión de Planificación y Ordenación Territorial
DESCRIPTION:Nombre del documentoTipo DocumentoOpciones
URL:https://bellevueidaho.gov/es/event/reunion-del-comite-de-planificacion-y-zonificacion-3/2028-06-19/
LOCATION:Sala de reuniones del Ayuntamiento\, 83313\, United States
ORGANIZER;CN="Comisi%C3%B3n de Planificaci%C3%B3n y Ordenaci%C3%B3n Territorial":MAILTO:cityclerk@bellevueidaho.us
END:VEVENT
BEGIN:VEVENT
DTSTART;TZID=America/Boise:20280619T173000
DTEND;TZID=America/Boise:20280619T193000
DTSTAMP:20260422T115541
CREATED:20251103T152516Z
LAST-MODIFIED:20251103T152516Z
UID:10002601-1845048600-1845055800@bellevueidaho.gov
SUMMARY:Reunión del Comité de Planificación y Zonificación
DESCRIPTION:Nombre del documentoTipo DocumentoOpciones
URL:https://bellevueidaho.gov/es/event/reunion-del-comite-de-planificacion-y-zonificacion-13/2028-06-19/
LOCATION:Sala de reuniones del Ayuntamiento\, 83313\, United States
CATEGORIES:Reuniones de las Comisiones de Planificación y Zonificación
ORGANIZER;CN="Comisi%C3%B3n de Planificaci%C3%B3n y Ordenaci%C3%B3n Territorial":MAILTO:cityclerk@bellevueidaho.us
END:VEVENT
BEGIN:VEVENT
DTSTART;TZID=America/Boise:20280703T173000
DTEND;TZID=America/Boise:20280703T193000
DTSTAMP:20260422T115541
CREATED:20250304T234054Z
LAST-MODIFIED:20250428T195503Z
UID:10001277-1846258200-1846265400@bellevueidaho.gov
SUMMARY:Reunión del Comité de Planificación y Zonificación
DESCRIPTION:
URL:https://bellevueidaho.gov/es/event/reunion-del-comite-de-planificacion-y-zonificacion-4/2028-07-03/
LOCATION:Sala de reuniones del Ayuntamiento\, 83313\, United States
CATEGORIES:Reuniones de las Comisiones de Planificación y Zonificación
ORGANIZER;CN="Comisi%C3%B3n de Planificaci%C3%B3n y Ordenaci%C3%B3n Territorial":MAILTO:cityclerk@bellevueidaho.us
END:VEVENT
BEGIN:VEVENT
DTSTART;TZID=America/Boise:20280703T173000
DTEND;TZID=America/Boise:20280703T193000
DTSTAMP:20260422T115541
CREATED:20250607T005423Z
LAST-MODIFIED:20250607T005423Z
UID:10002238-1846258200-1846265400@bellevueidaho.gov
SUMMARY:Reunión del Comité de Planificación y Zonificación
DESCRIPTION:Nombre del documentoTipo DocumentoOpciones
URL:https://bellevueidaho.gov/es/event/reunion-del-comite-de-planificacion-y-zonificacion-10/2028-07-03/
LOCATION:Sala de reuniones del Ayuntamiento\, 83313\, United States
CATEGORIES:Reuniones de las Comisiones de Planificación y Zonificación
ORGANIZER;CN="Comisi%C3%B3n de Planificaci%C3%B3n y Ordenaci%C3%B3n Territorial":MAILTO:cityclerk@bellevueidaho.us
END:VEVENT
BEGIN:VEVENT
DTSTART;TZID=America/Boise:20280717T173000
DTEND;TZID=America/Boise:20280717T193000
DTSTAMP:20260422T115541
CREATED:20250304T235102Z
LAST-MODIFIED:20250923T201624Z
UID:10001202-1847467800-1847475000@bellevueidaho.gov
SUMMARY:Reunión de la Comisión de Planificación y Ordenación Territorial
DESCRIPTION:Nombre del documentoTipo DocumentoOpciones
URL:https://bellevueidaho.gov/es/event/reunion-del-comite-de-planificacion-y-zonificacion-3/2028-07-17/
LOCATION:Sala de reuniones del Ayuntamiento\, 83313\, United States
ORGANIZER;CN="Comisi%C3%B3n de Planificaci%C3%B3n y Ordenaci%C3%B3n Territorial":MAILTO:cityclerk@bellevueidaho.us
END:VEVENT
BEGIN:VEVENT
DTSTART;TZID=America/Boise:20280717T173000
DTEND;TZID=America/Boise:20280717T193000
DTSTAMP:20260422T115541
CREATED:20251103T152516Z
LAST-MODIFIED:20251103T152516Z
UID:10002602-1847467800-1847475000@bellevueidaho.gov
SUMMARY:Reunión del Comité de Planificación y Zonificación
DESCRIPTION:Nombre del documentoTipo DocumentoOpciones
URL:https://bellevueidaho.gov/es/event/reunion-del-comite-de-planificacion-y-zonificacion-13/2028-07-17/
LOCATION:Sala de reuniones del Ayuntamiento\, 83313\, United States
CATEGORIES:Reuniones de las Comisiones de Planificación y Zonificación
ORGANIZER;CN="Comisi%C3%B3n de Planificaci%C3%B3n y Ordenaci%C3%B3n Territorial":MAILTO:cityclerk@bellevueidaho.us
END:VEVENT
BEGIN:VEVENT
DTSTART;TZID=America/Boise:20280807T173000
DTEND;TZID=America/Boise:20280807T193000
DTSTAMP:20260422T115541
CREATED:20250304T234054Z
LAST-MODIFIED:20250428T195503Z
UID:10001278-1849282200-1849289400@bellevueidaho.gov
SUMMARY:Reunión del Comité de Planificación y Zonificación
DESCRIPTION:
URL:https://bellevueidaho.gov/es/event/reunion-del-comite-de-planificacion-y-zonificacion-4/2028-08-07/
LOCATION:Sala de reuniones del Ayuntamiento\, 83313\, United States
CATEGORIES:Reuniones de las Comisiones de Planificación y Zonificación
ORGANIZER;CN="Comisi%C3%B3n de Planificaci%C3%B3n y Ordenaci%C3%B3n Territorial":MAILTO:cityclerk@bellevueidaho.us
END:VEVENT
BEGIN:VEVENT
DTSTART;TZID=America/Boise:20280807T173000
DTEND;TZID=America/Boise:20280807T193000
DTSTAMP:20260422T115541
CREATED:20250607T005423Z
LAST-MODIFIED:20250607T005423Z
UID:10002239-1849282200-1849289400@bellevueidaho.gov
SUMMARY:Reunión del Comité de Planificación y Zonificación
DESCRIPTION:Nombre del documentoTipo DocumentoOpciones
URL:https://bellevueidaho.gov/es/event/reunion-del-comite-de-planificacion-y-zonificacion-10/2028-08-07/
LOCATION:Sala de reuniones del Ayuntamiento\, 83313\, United States
CATEGORIES:Reuniones de las Comisiones de Planificación y Zonificación
ORGANIZER;CN="Comisi%C3%B3n de Planificaci%C3%B3n y Ordenaci%C3%B3n Territorial":MAILTO:cityclerk@bellevueidaho.us
END:VEVENT
BEGIN:VEVENT
DTSTART;TZID=America/Boise:20280821T173000
DTEND;TZID=America/Boise:20280821T193000
DTSTAMP:20260422T115541
CREATED:20250304T235102Z
LAST-MODIFIED:20250923T201624Z
UID:10001203-1850491800-1850499000@bellevueidaho.gov
SUMMARY:Reunión de la Comisión de Planificación y Ordenación Territorial
DESCRIPTION:Nombre del documentoTipo DocumentoOpciones
URL:https://bellevueidaho.gov/es/event/reunion-del-comite-de-planificacion-y-zonificacion-3/2028-08-21/
LOCATION:Sala de reuniones del Ayuntamiento\, 83313\, United States
ORGANIZER;CN="Comisi%C3%B3n de Planificaci%C3%B3n y Ordenaci%C3%B3n Territorial":MAILTO:cityclerk@bellevueidaho.us
END:VEVENT
BEGIN:VEVENT
DTSTART;TZID=America/Boise:20280821T173000
DTEND;TZID=America/Boise:20280821T193000
DTSTAMP:20260422T115541
CREATED:20251103T152516Z
LAST-MODIFIED:20251103T152516Z
UID:10002603-1850491800-1850499000@bellevueidaho.gov
SUMMARY:Reunión del Comité de Planificación y Zonificación
DESCRIPTION:Nombre del documentoTipo DocumentoOpciones
URL:https://bellevueidaho.gov/es/event/reunion-del-comite-de-planificacion-y-zonificacion-13/2028-08-21/
LOCATION:Sala de reuniones del Ayuntamiento\, 83313\, United States
CATEGORIES:Reuniones de las Comisiones de Planificación y Zonificación
ORGANIZER;CN="Comisi%C3%B3n de Planificaci%C3%B3n y Ordenaci%C3%B3n Territorial":MAILTO:cityclerk@bellevueidaho.us
END:VEVENT
BEGIN:VEVENT
DTSTART;TZID=America/Boise:20280904T173000
DTEND;TZID=America/Boise:20280904T193000
DTSTAMP:20260422T115541
CREATED:20250304T234054Z
LAST-MODIFIED:20250428T195503Z
UID:10001279-1851701400-1851708600@bellevueidaho.gov
SUMMARY:Reunión del Comité de Planificación y Zonificación
DESCRIPTION:
URL:https://bellevueidaho.gov/es/event/reunion-del-comite-de-planificacion-y-zonificacion-4/2028-09-04/
LOCATION:Sala de reuniones del Ayuntamiento\, 83313\, United States
CATEGORIES:Reuniones de las Comisiones de Planificación y Zonificación
ORGANIZER;CN="Comisi%C3%B3n de Planificaci%C3%B3n y Ordenaci%C3%B3n Territorial":MAILTO:cityclerk@bellevueidaho.us
END:VEVENT
BEGIN:VEVENT
DTSTART;TZID=America/Boise:20280904T173000
DTEND;TZID=America/Boise:20280904T193000
DTSTAMP:20260422T115541
CREATED:20250607T005423Z
LAST-MODIFIED:20250607T005423Z
UID:10002240-1851701400-1851708600@bellevueidaho.gov
SUMMARY:Reunión del Comité de Planificación y Zonificación
DESCRIPTION:Nombre del documentoTipo DocumentoOpciones
URL:https://bellevueidaho.gov/es/event/reunion-del-comite-de-planificacion-y-zonificacion-10/2028-09-04/
LOCATION:Sala de reuniones del Ayuntamiento\, 83313\, United States
CATEGORIES:Reuniones de las Comisiones de Planificación y Zonificación
ORGANIZER;CN="Comisi%C3%B3n de Planificaci%C3%B3n y Ordenaci%C3%B3n Territorial":MAILTO:cityclerk@bellevueidaho.us
END:VEVENT
BEGIN:VEVENT
DTSTART;TZID=America/Boise:20280918T173000
DTEND;TZID=America/Boise:20280918T193000
DTSTAMP:20260422T115541
CREATED:20250304T235102Z
LAST-MODIFIED:20250923T201624Z
UID:10001204-1852911000-1852918200@bellevueidaho.gov
SUMMARY:Reunión de la Comisión de Planificación y Ordenación Territorial
DESCRIPTION:Nombre del documentoTipo DocumentoOpciones
URL:https://bellevueidaho.gov/es/event/reunion-del-comite-de-planificacion-y-zonificacion-3/2028-09-18/
LOCATION:Sala de reuniones del Ayuntamiento\, 83313\, United States
ORGANIZER;CN="Comisi%C3%B3n de Planificaci%C3%B3n y Ordenaci%C3%B3n Territorial":MAILTO:cityclerk@bellevueidaho.us
END:VEVENT
END:VCALENDAR