BEGIN:VCALENDAR
VERSION:2.0
PRODID:-//City of Bellevue, Idaho - ECPv6.15.20//NONSGML v1.0//EN
CALSCALE:GREGORIAN
METHOD:PUBLISH
X-WR-CALNAME:City of Bellevue, Idaho
X-ORIGINAL-URL:https://bellevueidaho.gov
X-WR-CALDESC:Events for City of Bellevue, Idaho
REFRESH-INTERVAL;VALUE=DURATION:PT1H
X-Robots-Tag:noindex
X-PUBLISHED-TTL:PT1H
BEGIN:VTIMEZONE
TZID:America/Boise
BEGIN:DAYLIGHT
TZOFFSETFROM:-0700
TZOFFSETTO:-0600
TZNAME:MDT
DTSTART:20200308T090000
END:DAYLIGHT
BEGIN:STANDARD
TZOFFSETFROM:-0600
TZOFFSETTO:-0700
TZNAME:MST
DTSTART:20201101T080000
END:STANDARD
BEGIN:DAYLIGHT
TZOFFSETFROM:-0700
TZOFFSETTO:-0600
TZNAME:MDT
DTSTART:20210314T090000
END:DAYLIGHT
BEGIN:STANDARD
TZOFFSETFROM:-0600
TZOFFSETTO:-0700
TZNAME:MST
DTSTART:20211107T080000
END:STANDARD
BEGIN:DAYLIGHT
TZOFFSETFROM:-0700
TZOFFSETTO:-0600
TZNAME:MDT
DTSTART:20220313T090000
END:DAYLIGHT
BEGIN:STANDARD
TZOFFSETFROM:-0600
TZOFFSETTO:-0700
TZNAME:MST
DTSTART:20221106T080000
END:STANDARD
BEGIN:DAYLIGHT
TZOFFSETFROM:-0700
TZOFFSETTO:-0600
TZNAME:MDT
DTSTART:20230312T090000
END:DAYLIGHT
BEGIN:STANDARD
TZOFFSETFROM:-0600
TZOFFSETTO:-0700
TZNAME:MST
DTSTART:20231105T080000
END:STANDARD
BEGIN:DAYLIGHT
TZOFFSETFROM:-0700
TZOFFSETTO:-0600
TZNAME:MDT
DTSTART:20240310T090000
END:DAYLIGHT
BEGIN:STANDARD
TZOFFSETFROM:-0600
TZOFFSETTO:-0700
TZNAME:MST
DTSTART:20241103T080000
END:STANDARD
BEGIN:DAYLIGHT
TZOFFSETFROM:-0700
TZOFFSETTO:-0600
TZNAME:MDT
DTSTART:20250309T090000
END:DAYLIGHT
BEGIN:STANDARD
TZOFFSETFROM:-0600
TZOFFSETTO:-0700
TZNAME:MST
DTSTART:20251102T080000
END:STANDARD
END:VTIMEZONE
BEGIN:VEVENT
DTSTART;TZID=America/Boise:20240408T173000
DTEND;TZID=America/Boise:20240408T193000
DTSTAMP:20260419T163241
CREATED:20250411T151407Z
LAST-MODIFIED:20250411T151407Z
UID:10000677-1712597400-1712604600@bellevueidaho.gov
SUMMARY:City Council Meeting
DESCRIPTION:Document NameDocument TypeOptions
URL:https://bellevueidaho.gov/event/city-council-meeting-15/
LOCATION:Bellevue City Hall\, 115 Pine Street\, Bellevue\, ID\, 83313\, United States
CATEGORIES:City Council Meeting
ORGANIZER;CN="City Council":MAILTO:clerk@bellevueidaho.us
END:VEVENT
BEGIN:VEVENT
DTSTART;TZID=America/Boise:20240401T173000
DTEND;TZID=America/Boise:20240401T193000
DTSTAMP:20260419T163241
CREATED:20250304T234054Z
LAST-MODIFIED:20250304T234054Z
UID:10000312-1711992600-1711999800@bellevueidaho.gov
SUMMARY:Planning and Zoning Committee Meeting
DESCRIPTION:
URL:https://bellevueidaho.gov/event/planning-and-zoning-committee-meeting/2024-04-01/
LOCATION:Bellevue City Hall\, 115 Pine Street\, Bellevue\, ID\, 83313\, United States
CATEGORIES:Planning and Zoning Commissions Meetings
ORGANIZER;CN="Planning and Zoning Commission":MAILTO:cityclerk@bellevueidaho.us
END:VEVENT
BEGIN:VEVENT
DTSTART;TZID=America/Boise:20240318T173000
DTEND;TZID=America/Boise:20240318T193000
DTSTAMP:20260419T163241
CREATED:20250304T235102Z
LAST-MODIFIED:20250923T201617Z
UID:10000532-1710783000-1710790200@bellevueidaho.gov
SUMMARY:Planning and Zoning Commission Meeting
DESCRIPTION:Document NameDocument TypeOptions
URL:https://bellevueidaho.gov/event/planning-and-zoning-committee-meeting-2/2024-03-18/
LOCATION:Bellevue City Hall\, 115 Pine Street\, Bellevue\, ID\, 83313\, United States
ORGANIZER;CN="Planning and Zoning Commission":MAILTO:cityclerk@bellevueidaho.us
END:VEVENT
BEGIN:VEVENT
DTSTART;TZID=America/Boise:20240311T173000
DTEND;TZID=America/Boise:20240311T193000
DTSTAMP:20260419T163241
CREATED:20250411T152329Z
LAST-MODIFIED:20250411T152356Z
UID:10000676-1710178200-1710185400@bellevueidaho.gov
SUMMARY:City Council Meeting
DESCRIPTION:Document NameDocument TypeOptionsCity Council Meeting Packet – 03/11/2024PacketDownloadCity Council Meeting Agenda – 03/11/2024AgendaDownloadCity Council Meeting Agenda – 03/11/2024AgendaDownload03/11/2024 Mayor and Council Meeting MinutesMinutesDownload
URL:https://bellevueidaho.gov/event/city-council-meeting-16/
LOCATION:Bellevue City Hall\, 115 Pine Street\, Bellevue\, ID\, 83313\, United States
CATEGORIES:City Council Meeting
ORGANIZER;CN="City Council":MAILTO:clerk@bellevueidaho.us
END:VEVENT
BEGIN:VEVENT
DTSTART;TZID=America/Boise:20240304T173000
DTEND;TZID=America/Boise:20240304T193000
DTSTAMP:20260419T163241
CREATED:20250304T234054Z
LAST-MODIFIED:20250304T234054Z
UID:10000311-1709573400-1709580600@bellevueidaho.gov
SUMMARY:Planning and Zoning Committee Meeting
DESCRIPTION:
URL:https://bellevueidaho.gov/event/planning-and-zoning-committee-meeting/2024-03-04/
LOCATION:Bellevue City Hall\, 115 Pine Street\, Bellevue\, ID\, 83313\, United States
CATEGORIES:Planning and Zoning Commissions Meetings
ORGANIZER;CN="Planning and Zoning Commission":MAILTO:cityclerk@bellevueidaho.us
END:VEVENT
BEGIN:VEVENT
DTSTART;TZID=America/Boise:20240226T173000
DTEND;TZID=America/Boise:20240226T193000
DTSTAMP:20260419T163241
CREATED:20250411T151742Z
LAST-MODIFIED:20250411T151742Z
UID:10000823-1708968600-1708975800@bellevueidaho.gov
SUMMARY:City Council Meeting
DESCRIPTION:Document NameDocument TypeOptions
URL:https://bellevueidaho.gov/event/city-council-meeting-2-14/
LOCATION:Bellevue City Hall\, 115 Pine Street\, Bellevue\, ID\, 83313\, United States
CATEGORIES:City Council Meeting
ORGANIZER;CN="City Council":MAILTO:clerk@bellevueidaho.us
END:VEVENT
BEGIN:VEVENT
DTSTART;TZID=America/Boise:20240221T160000
DTEND;TZID=America/Boise:20240221T173000
DTSTAMP:20260419T163241
CREATED:20250311T125104Z
LAST-MODIFIED:20250311T125151Z
UID:10000938-1708531200-1708536600@bellevueidaho.gov
SUMMARY:BURA Meeting
DESCRIPTION:Document NameDocument TypeOptions
URL:https://bellevueidaho.gov/event/bura-meeting-32/
LOCATION:Bellevue Fire Station\, 517 N. 2nd Street\, Bellevue\, ID\, 83313\, United States
CATEGORIES:BURA Meetings
END:VEVENT
BEGIN:VEVENT
DTSTART;TZID=America/Boise:20240219T173000
DTEND;TZID=America/Boise:20240219T193000
DTSTAMP:20260419T163241
CREATED:20250304T235102Z
LAST-MODIFIED:20250923T201617Z
UID:10000531-1708363800-1708371000@bellevueidaho.gov
SUMMARY:Planning and Zoning Commission Meeting
DESCRIPTION:Document NameDocument TypeOptions
URL:https://bellevueidaho.gov/event/planning-and-zoning-committee-meeting-2/2024-02-19/
LOCATION:Bellevue City Hall\, 115 Pine Street\, Bellevue\, ID\, 83313\, United States
ORGANIZER;CN="Planning and Zoning Commission":MAILTO:cityclerk@bellevueidaho.us
END:VEVENT
BEGIN:VEVENT
DTSTART;TZID=America/Boise:20240212T173000
DTEND;TZID=America/Boise:20240212T193000
DTSTAMP:20260419T163241
CREATED:20250305T233554Z
LAST-MODIFIED:20250411T153602Z
UID:10000675-1707759000-1707766200@bellevueidaho.gov
SUMMARY:City Council Meeting
DESCRIPTION:Document NameDocument TypeOptions02/12/2024 Mayor and Council Meeting MinutesMinutesDownload
URL:https://bellevueidaho.gov/event/city-council-meeting-6/
LOCATION:Bellevue City Hall\, 115 Pine Street\, Bellevue\, ID\, 83313\, United States
CATEGORIES:City Council Meeting
ORGANIZER;CN="City Council":MAILTO:clerk@bellevueidaho.us
END:VEVENT
BEGIN:VEVENT
DTSTART;TZID=America/Boise:20240205T173000
DTEND;TZID=America/Boise:20240205T193000
DTSTAMP:20260419T163241
CREATED:20250304T234054Z
LAST-MODIFIED:20250304T234054Z
UID:10000310-1707154200-1707161400@bellevueidaho.gov
SUMMARY:Planning and Zoning Committee Meeting
DESCRIPTION:
URL:https://bellevueidaho.gov/event/planning-and-zoning-committee-meeting/2024-02-05/
LOCATION:Bellevue City Hall\, 115 Pine Street\, Bellevue\, ID\, 83313\, United States
CATEGORIES:Planning and Zoning Commissions Meetings
ORGANIZER;CN="Planning and Zoning Commission":MAILTO:cityclerk@bellevueidaho.us
END:VEVENT
BEGIN:VEVENT
DTSTART;TZID=America/Boise:20240122T173000
DTEND;TZID=America/Boise:20240122T193000
DTSTAMP:20260419T163241
CREATED:20250411T151241Z
LAST-MODIFIED:20250411T151241Z
UID:10000822-1705944600-1705951800@bellevueidaho.gov
SUMMARY:City Council Meeting
DESCRIPTION:Document NameDocument TypeOptionsResolution 2361 (5361) Part A – Authorize Mayor to execute DEQ Funding-All Docs Re Drinking Water Improvement ProjectResolutionDownload01/22/2024 Mayor and Council Meeting Agenda – AmendedAgendaDownload01/22/2024 Mayor and Council Meeting AgendaAgendaDownload01/22/2024 Mayor and Council Meeting Agenda – SpanishAgendaDownload01/22/2024 Mayor and Council Meeting MinutesMinutesDownload01/22/2024 Mayor and Council Meeting Packet – AmendedPacketDownload
URL:https://bellevueidaho.gov/event/city-council-meeting-2-12/
LOCATION:Bellevue City Hall\, 115 Pine Street\, Bellevue\, ID\, 83313\, United States
CATEGORIES:City Council Meeting
ORGANIZER;CN="City Council":MAILTO:clerk@bellevueidaho.us
END:VEVENT
BEGIN:VEVENT
DTSTART;TZID=America/Boise:20240116T160000
DTEND;TZID=America/Boise:20240116T173000
DTSTAMP:20260419T163241
CREATED:20250311T125248Z
LAST-MODIFIED:20250311T125248Z
UID:10000939-1705420800-1705426200@bellevueidaho.gov
SUMMARY:BURA Meeting
DESCRIPTION:Document NameDocument TypeOptions
URL:https://bellevueidaho.gov/event/bura-meeting-33/
LOCATION:Bellevue Fire Station\, 517 N. 2nd Street\, Bellevue\, ID\, 83313\, United States
CATEGORIES:BURA Meetings
END:VEVENT
BEGIN:VEVENT
DTSTART;TZID=America/Boise:20240115T173000
DTEND;TZID=America/Boise:20240115T193000
DTSTAMP:20260419T163241
CREATED:20250304T235102Z
LAST-MODIFIED:20250923T201617Z
UID:10000530-1705339800-1705347000@bellevueidaho.gov
SUMMARY:Planning and Zoning Commission Meeting
DESCRIPTION:Document NameDocument TypeOptions
URL:https://bellevueidaho.gov/event/planning-and-zoning-committee-meeting-2/2024-01-15/
LOCATION:Bellevue City Hall\, 115 Pine Street\, Bellevue\, ID\, 83313\, United States
ORGANIZER;CN="Planning and Zoning Commission":MAILTO:cityclerk@bellevueidaho.us
END:VEVENT
BEGIN:VEVENT
DTSTART;TZID=America/Boise:20240108T173000
DTEND;TZID=America/Boise:20240108T193000
DTSTAMP:20260419T163241
CREATED:20250411T150911Z
LAST-MODIFIED:20250411T151005Z
UID:10000674-1704735000-1704742200@bellevueidaho.gov
SUMMARY:City Council Meeting
DESCRIPTION:Document NameDocument TypeOptions
URL:https://bellevueidaho.gov/event/city-council-meeting-14/
LOCATION:Bellevue City Hall\, 115 Pine Street\, Bellevue\, ID\, 83313\, United States
CATEGORIES:City Council Meeting
ORGANIZER;CN="City Council":MAILTO:clerk@bellevueidaho.us
END:VEVENT
BEGIN:VEVENT
DTSTART;TZID=America/Boise:20230919T160000
DTEND;TZID=America/Boise:20230919T173000
DTSTAMP:20260419T163241
CREATED:20250311T124938Z
LAST-MODIFIED:20250311T124938Z
UID:10000937-1695139200-1695144600@bellevueidaho.gov
SUMMARY:BURA Meeting
DESCRIPTION:Document NameDocument TypeOptions
URL:https://bellevueidaho.gov/event/bura-meeting-31/
LOCATION:Bellevue Fire Station\, 517 N. 2nd Street\, Bellevue\, ID\, 83313\, United States
CATEGORIES:BURA Meetings
END:VEVENT
BEGIN:VEVENT
DTSTART;TZID=America/Boise:20230815T160000
DTEND;TZID=America/Boise:20230815T173000
DTSTAMP:20260419T163241
CREATED:20250311T124627Z
LAST-MODIFIED:20250311T124903Z
UID:10000936-1692115200-1692120600@bellevueidaho.gov
SUMMARY:BURA Meeting
DESCRIPTION:Document NameDocument TypeOptions
URL:https://bellevueidaho.gov/event/bura-meeting-30/
LOCATION:Bellevue Fire Station\, 517 N. 2nd Street\, Bellevue\, ID\, 83313\, United States
CATEGORIES:BURA Meetings
END:VEVENT
BEGIN:VEVENT
DTSTART;TZID=America/Boise:20230620T160000
DTEND;TZID=America/Boise:20230620T173000
DTSTAMP:20260419T163241
CREATED:20250311T124550Z
LAST-MODIFIED:20250311T124550Z
UID:10000935-1687276800-1687282200@bellevueidaho.gov
SUMMARY:BURA Meeting
DESCRIPTION:Document NameDocument TypeOptions
URL:https://bellevueidaho.gov/event/bura-meeting-29/
LOCATION:Bellevue Fire Station\, 517 N. 2nd Street\, Bellevue\, ID\, 83313\, United States
CATEGORIES:BURA Meetings
END:VEVENT
BEGIN:VEVENT
DTSTART;TZID=America/Boise:20230425T160000
DTEND;TZID=America/Boise:20230425T173000
DTSTAMP:20260419T163241
CREATED:20250311T124501Z
LAST-MODIFIED:20250311T124501Z
UID:10000934-1682438400-1682443800@bellevueidaho.gov
SUMMARY:BURA Meeting
DESCRIPTION:Document NameDocument TypeOptions
URL:https://bellevueidaho.gov/event/bura-meeting-28/
LOCATION:Bellevue Fire Station\, 517 N. 2nd Street\, Bellevue\, ID\, 83313\, United States
CATEGORIES:BURA Meetings
END:VEVENT
BEGIN:VEVENT
DTSTART;TZID=America/Boise:20230314T160000
DTEND;TZID=America/Boise:20230314T173000
DTSTAMP:20260419T163241
CREATED:20250311T124402Z
LAST-MODIFIED:20250311T124402Z
UID:10000933-1678809600-1678815000@bellevueidaho.gov
SUMMARY:BURA Meeting
DESCRIPTION:Document NameDocument TypeOptionsBURA Meeting Packet – 3/14/2023PacketDownload
URL:https://bellevueidaho.gov/event/bura-meeting-27/
LOCATION:Bellevue Fire Station\, 517 N. 2nd Street\, Bellevue\, ID\, 83313\, United States
CATEGORIES:BURA Meetings
END:VEVENT
BEGIN:VEVENT
DTSTART;TZID=America/Boise:20230214T160000
DTEND;TZID=America/Boise:20230214T173000
DTSTAMP:20260419T163242
CREATED:20250311T124220Z
LAST-MODIFIED:20250311T124305Z
UID:10000932-1676390400-1676395800@bellevueidaho.gov
SUMMARY:BURA Meeting
DESCRIPTION:Document NameDocument TypeOptionsBURA Meeting Agenda and Notice – 2/14/2023AgendaDownload
URL:https://bellevueidaho.gov/event/bura-meeting-26/
LOCATION:Bellevue Fire Station\, 517 N. 2nd Street\, Bellevue\, ID\, 83313\, United States
CATEGORIES:BURA Meetings
END:VEVENT
BEGIN:VEVENT
DTSTART;TZID=America/Boise:20220809T160000
DTEND;TZID=America/Boise:20220809T173000
DTSTAMP:20260419T163242
CREATED:20250311T123942Z
LAST-MODIFIED:20250311T124153Z
UID:10000931-1660060800-1660066200@bellevueidaho.gov
SUMMARY:BURA Meeting
DESCRIPTION:Document NameDocument TypeOptions
URL:https://bellevueidaho.gov/event/bura-meeting-25/
LOCATION:Bellevue Fire Station\, 517 N. 2nd Street\, Bellevue\, ID\, 83313\, United States
CATEGORIES:BURA Meetings
END:VEVENT
BEGIN:VEVENT
DTSTART;TZID=America/Boise:20220707T160000
DTEND;TZID=America/Boise:20220707T173000
DTSTAMP:20260419T163242
CREATED:20250311T123911Z
LAST-MODIFIED:20250311T123911Z
UID:10000930-1657209600-1657215000@bellevueidaho.gov
SUMMARY:BURA Meeting
DESCRIPTION:Document NameDocument TypeOptions
URL:https://bellevueidaho.gov/event/bura-meeting-24/
LOCATION:Bellevue Fire Station\, 517 N. 2nd Street\, Bellevue\, ID\, 83313\, United States
CATEGORIES:BURA Meetings
END:VEVENT
BEGIN:VEVENT
DTSTART;TZID=America/Boise:20220303T160000
DTEND;TZID=America/Boise:20220303T173000
DTSTAMP:20260419T163242
CREATED:20250311T123822Z
LAST-MODIFIED:20250311T123822Z
UID:10000929-1646323200-1646328600@bellevueidaho.gov
SUMMARY:BURA Meeting
DESCRIPTION:Document NameDocument TypeOptions
URL:https://bellevueidaho.gov/event/bura-meeting-23/
LOCATION:Bellevue Fire Station\, 517 N. 2nd Street\, Bellevue\, ID\, 83313\, United States
CATEGORIES:BURA Meetings
END:VEVENT
BEGIN:VEVENT
DTSTART;TZID=America/Boise:20220208T160000
DTEND;TZID=America/Boise:20220208T173000
DTSTAMP:20260419T163242
CREATED:20250311T123759Z
LAST-MODIFIED:20250311T123759Z
UID:10000928-1644336000-1644341400@bellevueidaho.gov
SUMMARY:BURA Meeting
DESCRIPTION:Document NameDocument TypeOptions
URL:https://bellevueidaho.gov/event/bura-meeting-22/
LOCATION:Bellevue Fire Station\, 517 N. 2nd Street\, Bellevue\, ID\, 83313\, United States
CATEGORIES:BURA Meetings
END:VEVENT
BEGIN:VEVENT
DTSTART;TZID=America/Boise:20220118T160000
DTEND;TZID=America/Boise:20220118T173000
DTSTAMP:20260419T163242
CREATED:20250311T123709Z
LAST-MODIFIED:20250311T123709Z
UID:10000927-1642521600-1642527000@bellevueidaho.gov
SUMMARY:BURA Meeting
DESCRIPTION:Document NameDocument TypeOptions
URL:https://bellevueidaho.gov/event/bura-meeting-21/
LOCATION:Bellevue Fire Station\, 517 N. 2nd Street\, Bellevue\, ID\, 83313\, United States
CATEGORIES:BURA Meetings
END:VEVENT
BEGIN:VEVENT
DTSTART;TZID=America/Boise:20211027T163000
DTEND;TZID=America/Boise:20211027T180000
DTSTAMP:20260419T163242
CREATED:20250311T123605Z
LAST-MODIFIED:20250311T123605Z
UID:10000926-1635352200-1635357600@bellevueidaho.gov
SUMMARY:BURA Meeting
DESCRIPTION:Document NameDocument TypeOptionsBURA Meeting Packet – 10/27/2021PacketDownload10/27/2021 BURA Meeting MinutesMinutesDownload
URL:https://bellevueidaho.gov/event/bura-meeting-20/
LOCATION:Bellevue Fire Station\, 517 N. 2nd Street\, Bellevue\, ID\, 83313\, United States
CATEGORIES:BURA Meetings
END:VEVENT
BEGIN:VEVENT
DTSTART;TZID=America/Boise:20210929T160000
DTEND;TZID=America/Boise:20210929T173000
DTSTAMP:20260419T163242
CREATED:20250311T123509Z
LAST-MODIFIED:20250311T123509Z
UID:10000925-1632931200-1632936600@bellevueidaho.gov
SUMMARY:BURA Meeting
DESCRIPTION:Document NameDocument TypeOptions
URL:https://bellevueidaho.gov/event/bura-meeting-19/
LOCATION:Bellevue Fire Station\, 517 N. 2nd Street\, Bellevue\, ID\, 83313\, United States
CATEGORIES:BURA Meetings
END:VEVENT
BEGIN:VEVENT
DTSTART;TZID=America/Boise:20210824T160000
DTEND;TZID=America/Boise:20210824T173000
DTSTAMP:20260419T163242
CREATED:20250311T123433Z
LAST-MODIFIED:20250311T123433Z
UID:10000924-1629820800-1629826200@bellevueidaho.gov
SUMMARY:BURA Meeting
DESCRIPTION:Document NameDocument TypeOptions
URL:https://bellevueidaho.gov/event/bura-meeting-18/
LOCATION:Bellevue Fire Station\, 517 N. 2nd Street\, Bellevue\, ID\, 83313\, United States
CATEGORIES:BURA Meetings
END:VEVENT
BEGIN:VEVENT
DTSTART;TZID=America/Boise:20210803T160000
DTEND;TZID=America/Boise:20210803T173000
DTSTAMP:20260419T163242
CREATED:20250311T123356Z
LAST-MODIFIED:20250311T123356Z
UID:10000923-1628006400-1628011800@bellevueidaho.gov
SUMMARY:BURA Meeting
DESCRIPTION:Document NameDocument TypeOptions
URL:https://bellevueidaho.gov/event/bura-meeting-17/
LOCATION:Bellevue Fire Station\, 517 N. 2nd Street\, Bellevue\, ID\, 83313\, United States
CATEGORIES:BURA Meetings
END:VEVENT
BEGIN:VEVENT
DTSTART;TZID=America/Boise:20210309T150000
DTEND;TZID=America/Boise:20210309T163000
DTSTAMP:20260419T163242
CREATED:20250311T123301Z
LAST-MODIFIED:20250311T123301Z
UID:10000922-1615302000-1615307400@bellevueidaho.gov
SUMMARY:BURA Meeting
DESCRIPTION:Document NameDocument TypeOptions
URL:https://bellevueidaho.gov/event/bura-meeting-16/
LOCATION:Bellevue Fire Station\, 517 N. 2nd Street\, Bellevue\, ID\, 83313\, United States
CATEGORIES:BURA Meetings
END:VEVENT
END:VCALENDAR