BEGIN:VCALENDAR
VERSION:2.0
PRODID:-//City of Bellevue, Idaho - ECPv6.15.20//NONSGML v1.0//EN
CALSCALE:GREGORIAN
METHOD:PUBLISH
X-ORIGINAL-URL:https://bellevueidaho.gov
X-WR-CALDESC:Events for City of Bellevue, Idaho
REFRESH-INTERVAL;VALUE=DURATION:PT1H
X-Robots-Tag:noindex
X-PUBLISHED-TTL:PT1H
BEGIN:VTIMEZONE
TZID:America/Boise
BEGIN:DAYLIGHT
TZOFFSETFROM:-0700
TZOFFSETTO:-0600
TZNAME:MDT
DTSTART:20280312T090000
END:DAYLIGHT
BEGIN:STANDARD
TZOFFSETFROM:-0600
TZOFFSETTO:-0700
TZNAME:MST
DTSTART:20281105T080000
END:STANDARD
BEGIN:DAYLIGHT
TZOFFSETFROM:-0700
TZOFFSETTO:-0600
TZNAME:MDT
DTSTART:20290311T090000
END:DAYLIGHT
BEGIN:STANDARD
TZOFFSETFROM:-0600
TZOFFSETTO:-0700
TZNAME:MST
DTSTART:20291104T080000
END:STANDARD
BEGIN:DAYLIGHT
TZOFFSETFROM:-0700
TZOFFSETTO:-0600
TZNAME:MDT
DTSTART:20300310T090000
END:DAYLIGHT
BEGIN:STANDARD
TZOFFSETFROM:-0600
TZOFFSETTO:-0700
TZNAME:MST
DTSTART:20301103T080000
END:STANDARD
BEGIN:DAYLIGHT
TZOFFSETFROM:-0700
TZOFFSETTO:-0600
TZNAME:MDT
DTSTART:20310309T090000
END:DAYLIGHT
BEGIN:STANDARD
TZOFFSETFROM:-0600
TZOFFSETTO:-0700
TZNAME:MST
DTSTART:20311102T080000
END:STANDARD
BEGIN:DAYLIGHT
TZOFFSETFROM:-0700
TZOFFSETTO:-0600
TZNAME:MDT
DTSTART:20320314T090000
END:DAYLIGHT
BEGIN:STANDARD
TZOFFSETFROM:-0600
TZOFFSETTO:-0700
TZNAME:MST
DTSTART:20321107T080000
END:STANDARD
END:VTIMEZONE
BEGIN:VEVENT
DTSTART;TZID=America/Boise:20291105T173000
DTEND;TZID=America/Boise:20291105T193000
DTSTAMP:20260419T214141
CREATED:20250607T005423Z
LAST-MODIFIED:20251230T195739Z
UID:10000381-1888594200-1888601400@bellevueidaho.gov
SUMMARY:Planning & Zoning Commission Meeting
DESCRIPTION:Document NameDocument TypeOptions
URL:https://bellevueidaho.gov/event/planning-and-zoning-committee-meeting-9/2029-11-05/
LOCATION:Bellevue City Hall\, 115 Pine Street\, Bellevue\, ID\, 83313\, United States
CATEGORIES:Planning and Zoning Commissions Meetings
ORGANIZER;CN="Planning and Zoning Commission":MAILTO:cityclerk@bellevueidaho.us
END:VEVENT
BEGIN:VEVENT
DTSTART;TZID=America/Boise:20291119T173000
DTEND;TZID=America/Boise:20291119T193000
DTSTAMP:20260419T214141
CREATED:20260115T234140Z
LAST-MODIFIED:20260312T203132Z
UID:10002746-1889803800-1889811000@bellevueidaho.gov
SUMMARY:Planning & Zoning Commission Meeting
DESCRIPTION:Document NameDocument TypeOptionsCity of Bellevue\, Idaho Planning & Zoning Commission – March 16\, 2026 Meeting PacketMeeting PacketDownload
URL:https://bellevueidaho.gov/event/planning-zoning-commission-meeting/2029-11-19/
LOCATION:Bellevue City Hall\, 115 Pine Street\, Bellevue\, ID\, 83313\, United States
CATEGORIES:Planning and Zoning Commissions Meetings
END:VEVENT
BEGIN:VEVENT
DTSTART;TZID=America/Boise:20291203T173000
DTEND;TZID=America/Boise:20291203T193000
DTSTAMP:20260419T214141
CREATED:20250607T005423Z
LAST-MODIFIED:20251230T195739Z
UID:10000382-1891013400-1891020600@bellevueidaho.gov
SUMMARY:Planning & Zoning Commission Meeting
DESCRIPTION:Document NameDocument TypeOptions
URL:https://bellevueidaho.gov/event/planning-and-zoning-committee-meeting-9/2029-12-03/
LOCATION:Bellevue City Hall\, 115 Pine Street\, Bellevue\, ID\, 83313\, United States
CATEGORIES:Planning and Zoning Commissions Meetings
ORGANIZER;CN="Planning and Zoning Commission":MAILTO:cityclerk@bellevueidaho.us
END:VEVENT
BEGIN:VEVENT
DTSTART;TZID=America/Boise:20291217T173000
DTEND;TZID=America/Boise:20291217T193000
DTSTAMP:20260419T214142
CREATED:20260115T234140Z
LAST-MODIFIED:20260312T203132Z
UID:10002747-1892223000-1892230200@bellevueidaho.gov
SUMMARY:Planning & Zoning Commission Meeting
DESCRIPTION:Document NameDocument TypeOptionsCity of Bellevue\, Idaho Planning & Zoning Commission – March 16\, 2026 Meeting PacketMeeting PacketDownload
URL:https://bellevueidaho.gov/event/planning-zoning-commission-meeting/2029-12-17/
LOCATION:Bellevue City Hall\, 115 Pine Street\, Bellevue\, ID\, 83313\, United States
CATEGORIES:Planning and Zoning Commissions Meetings
END:VEVENT
BEGIN:VEVENT
DTSTART;TZID=America/Boise:20300107T173000
DTEND;TZID=America/Boise:20300107T193000
DTSTAMP:20260419T214142
CREATED:20250607T005423Z
LAST-MODIFIED:20251230T195739Z
UID:10000383-1894037400-1894044600@bellevueidaho.gov
SUMMARY:Planning & Zoning Commission Meeting
DESCRIPTION:Document NameDocument TypeOptions
URL:https://bellevueidaho.gov/event/planning-and-zoning-committee-meeting-9/2030-01-07/
LOCATION:Bellevue City Hall\, 115 Pine Street\, Bellevue\, ID\, 83313\, United States
CATEGORIES:Planning and Zoning Commissions Meetings
ORGANIZER;CN="Planning and Zoning Commission":MAILTO:cityclerk@bellevueidaho.us
END:VEVENT
BEGIN:VEVENT
DTSTART;TZID=America/Boise:20300121T173000
DTEND;TZID=America/Boise:20300121T193000
DTSTAMP:20260419T214142
CREATED:20260115T234140Z
LAST-MODIFIED:20260312T203132Z
UID:10002748-1895247000-1895254200@bellevueidaho.gov
SUMMARY:Planning & Zoning Commission Meeting
DESCRIPTION:Document NameDocument TypeOptionsCity of Bellevue\, Idaho Planning & Zoning Commission – March 16\, 2026 Meeting PacketMeeting PacketDownload
URL:https://bellevueidaho.gov/event/planning-zoning-commission-meeting/2030-01-21/
LOCATION:Bellevue City Hall\, 115 Pine Street\, Bellevue\, ID\, 83313\, United States
CATEGORIES:Planning and Zoning Commissions Meetings
END:VEVENT
BEGIN:VEVENT
DTSTART;TZID=America/Boise:20300204T173000
DTEND;TZID=America/Boise:20300204T193000
DTSTAMP:20260419T214142
CREATED:20250607T005423Z
LAST-MODIFIED:20251230T195739Z
UID:10000384-1896456600-1896463800@bellevueidaho.gov
SUMMARY:Planning & Zoning Commission Meeting
DESCRIPTION:Document NameDocument TypeOptions
URL:https://bellevueidaho.gov/event/planning-and-zoning-committee-meeting-9/2030-02-04/
LOCATION:Bellevue City Hall\, 115 Pine Street\, Bellevue\, ID\, 83313\, United States
CATEGORIES:Planning and Zoning Commissions Meetings
ORGANIZER;CN="Planning and Zoning Commission":MAILTO:cityclerk@bellevueidaho.us
END:VEVENT
BEGIN:VEVENT
DTSTART;TZID=America/Boise:20300218T173000
DTEND;TZID=America/Boise:20300218T193000
DTSTAMP:20260419T214142
CREATED:20260115T234140Z
LAST-MODIFIED:20260312T203132Z
UID:10002749-1897666200-1897673400@bellevueidaho.gov
SUMMARY:Planning & Zoning Commission Meeting
DESCRIPTION:Document NameDocument TypeOptionsCity of Bellevue\, Idaho Planning & Zoning Commission – March 16\, 2026 Meeting PacketMeeting PacketDownload
URL:https://bellevueidaho.gov/event/planning-zoning-commission-meeting/2030-02-18/
LOCATION:Bellevue City Hall\, 115 Pine Street\, Bellevue\, ID\, 83313\, United States
CATEGORIES:Planning and Zoning Commissions Meetings
END:VEVENT
BEGIN:VEVENT
DTSTART;TZID=America/Boise:20300304T173000
DTEND;TZID=America/Boise:20300304T193000
DTSTAMP:20260419T214142
CREATED:20250607T005423Z
LAST-MODIFIED:20251230T195739Z
UID:10000385-1898875800-1898883000@bellevueidaho.gov
SUMMARY:Planning & Zoning Commission Meeting
DESCRIPTION:Document NameDocument TypeOptions
URL:https://bellevueidaho.gov/event/planning-and-zoning-committee-meeting-9/2030-03-04/
LOCATION:Bellevue City Hall\, 115 Pine Street\, Bellevue\, ID\, 83313\, United States
CATEGORIES:Planning and Zoning Commissions Meetings
ORGANIZER;CN="Planning and Zoning Commission":MAILTO:cityclerk@bellevueidaho.us
END:VEVENT
BEGIN:VEVENT
DTSTART;TZID=America/Boise:20300318T173000
DTEND;TZID=America/Boise:20300318T193000
DTSTAMP:20260419T214142
CREATED:20260115T234140Z
LAST-MODIFIED:20260312T203132Z
UID:10002750-1900085400-1900092600@bellevueidaho.gov
SUMMARY:Planning & Zoning Commission Meeting
DESCRIPTION:Document NameDocument TypeOptionsCity of Bellevue\, Idaho Planning & Zoning Commission – March 16\, 2026 Meeting PacketMeeting PacketDownload
URL:https://bellevueidaho.gov/event/planning-zoning-commission-meeting/2030-03-18/
LOCATION:Bellevue City Hall\, 115 Pine Street\, Bellevue\, ID\, 83313\, United States
CATEGORIES:Planning and Zoning Commissions Meetings
END:VEVENT
BEGIN:VEVENT
DTSTART;TZID=America/Boise:20300401T173000
DTEND;TZID=America/Boise:20300401T193000
DTSTAMP:20260419T214142
CREATED:20250607T005423Z
LAST-MODIFIED:20251230T195739Z
UID:10001313-1901295000-1901302200@bellevueidaho.gov
SUMMARY:Planning & Zoning Commission Meeting
DESCRIPTION:Document NameDocument TypeOptions
URL:https://bellevueidaho.gov/event/planning-and-zoning-committee-meeting-9/2030-04-01/
LOCATION:Bellevue City Hall\, 115 Pine Street\, Bellevue\, ID\, 83313\, United States
CATEGORIES:Planning and Zoning Commissions Meetings
ORGANIZER;CN="Planning and Zoning Commission":MAILTO:cityclerk@bellevueidaho.us
END:VEVENT
BEGIN:VEVENT
DTSTART;TZID=America/Boise:20300415T173000
DTEND;TZID=America/Boise:20300415T193000
DTSTAMP:20260419T214142
CREATED:20260115T234140Z
LAST-MODIFIED:20260312T203132Z
UID:10002751-1902504600-1902511800@bellevueidaho.gov
SUMMARY:Planning & Zoning Commission Meeting
DESCRIPTION:Document NameDocument TypeOptionsCity of Bellevue\, Idaho Planning & Zoning Commission – March 16\, 2026 Meeting PacketMeeting PacketDownload
URL:https://bellevueidaho.gov/event/planning-zoning-commission-meeting/2030-04-15/
LOCATION:Bellevue City Hall\, 115 Pine Street\, Bellevue\, ID\, 83313\, United States
CATEGORIES:Planning and Zoning Commissions Meetings
END:VEVENT
BEGIN:VEVENT
DTSTART;TZID=America/Boise:20300506T173000
DTEND;TZID=America/Boise:20300506T193000
DTSTAMP:20260419T214142
CREATED:20250607T005423Z
LAST-MODIFIED:20251230T195739Z
UID:10001940-1904319000-1904326200@bellevueidaho.gov
SUMMARY:Planning & Zoning Commission Meeting
DESCRIPTION:Document NameDocument TypeOptions
URL:https://bellevueidaho.gov/event/planning-and-zoning-committee-meeting-9/2030-05-06/
LOCATION:Bellevue City Hall\, 115 Pine Street\, Bellevue\, ID\, 83313\, United States
CATEGORIES:Planning and Zoning Commissions Meetings
ORGANIZER;CN="Planning and Zoning Commission":MAILTO:cityclerk@bellevueidaho.us
END:VEVENT
BEGIN:VEVENT
DTSTART;TZID=America/Boise:20300520T173000
DTEND;TZID=America/Boise:20300520T193000
DTSTAMP:20260419T214142
CREATED:20260115T234140Z
LAST-MODIFIED:20260312T203132Z
UID:10002752-1905528600-1905535800@bellevueidaho.gov
SUMMARY:Planning & Zoning Commission Meeting
DESCRIPTION:Document NameDocument TypeOptionsCity of Bellevue\, Idaho Planning & Zoning Commission – March 16\, 2026 Meeting PacketMeeting PacketDownload
URL:https://bellevueidaho.gov/event/planning-zoning-commission-meeting/2030-05-20/
LOCATION:Bellevue City Hall\, 115 Pine Street\, Bellevue\, ID\, 83313\, United States
CATEGORIES:Planning and Zoning Commissions Meetings
END:VEVENT
BEGIN:VEVENT
DTSTART;TZID=America/Boise:20300603T173000
DTEND;TZID=America/Boise:20300603T193000
DTSTAMP:20260419T214142
CREATED:20250607T005423Z
LAST-MODIFIED:20251230T195739Z
UID:10001941-1906738200-1906745400@bellevueidaho.gov
SUMMARY:Planning & Zoning Commission Meeting
DESCRIPTION:Document NameDocument TypeOptions
URL:https://bellevueidaho.gov/event/planning-and-zoning-committee-meeting-9/2030-06-03/
LOCATION:Bellevue City Hall\, 115 Pine Street\, Bellevue\, ID\, 83313\, United States
CATEGORIES:Planning and Zoning Commissions Meetings
ORGANIZER;CN="Planning and Zoning Commission":MAILTO:cityclerk@bellevueidaho.us
END:VEVENT
BEGIN:VEVENT
DTSTART;TZID=America/Boise:20300617T173000
DTEND;TZID=America/Boise:20300617T193000
DTSTAMP:20260419T214142
CREATED:20260115T234140Z
LAST-MODIFIED:20260312T203132Z
UID:10002753-1907947800-1907955000@bellevueidaho.gov
SUMMARY:Planning & Zoning Commission Meeting
DESCRIPTION:Document NameDocument TypeOptionsCity of Bellevue\, Idaho Planning & Zoning Commission – March 16\, 2026 Meeting PacketMeeting PacketDownload
URL:https://bellevueidaho.gov/event/planning-zoning-commission-meeting/2030-06-17/
LOCATION:Bellevue City Hall\, 115 Pine Street\, Bellevue\, ID\, 83313\, United States
CATEGORIES:Planning and Zoning Commissions Meetings
END:VEVENT
BEGIN:VEVENT
DTSTART;TZID=America/Boise:20300701T173000
DTEND;TZID=America/Boise:20300701T193000
DTSTAMP:20260419T214142
CREATED:20250607T005423Z
LAST-MODIFIED:20251230T195739Z
UID:10002202-1909157400-1909164600@bellevueidaho.gov
SUMMARY:Planning & Zoning Commission Meeting
DESCRIPTION:Document NameDocument TypeOptions
URL:https://bellevueidaho.gov/event/planning-and-zoning-committee-meeting-9/2030-07-01/
LOCATION:Bellevue City Hall\, 115 Pine Street\, Bellevue\, ID\, 83313\, United States
CATEGORIES:Planning and Zoning Commissions Meetings
ORGANIZER;CN="Planning and Zoning Commission":MAILTO:cityclerk@bellevueidaho.us
END:VEVENT
BEGIN:VEVENT
DTSTART;TZID=America/Boise:20300715T173000
DTEND;TZID=America/Boise:20300715T193000
DTSTAMP:20260419T214142
CREATED:20260115T234140Z
LAST-MODIFIED:20260312T203132Z
UID:10002754-1910367000-1910374200@bellevueidaho.gov
SUMMARY:Planning & Zoning Commission Meeting
DESCRIPTION:Document NameDocument TypeOptionsCity of Bellevue\, Idaho Planning & Zoning Commission – March 16\, 2026 Meeting PacketMeeting PacketDownload
URL:https://bellevueidaho.gov/event/planning-zoning-commission-meeting/2030-07-15/
LOCATION:Bellevue City Hall\, 115 Pine Street\, Bellevue\, ID\, 83313\, United States
CATEGORIES:Planning and Zoning Commissions Meetings
END:VEVENT
BEGIN:VEVENT
DTSTART;TZID=America/Boise:20300805T173000
DTEND;TZID=America/Boise:20300805T193000
DTSTAMP:20260419T214142
CREATED:20250607T005423Z
LAST-MODIFIED:20251230T195739Z
UID:10002203-1912181400-1912188600@bellevueidaho.gov
SUMMARY:Planning & Zoning Commission Meeting
DESCRIPTION:Document NameDocument TypeOptions
URL:https://bellevueidaho.gov/event/planning-and-zoning-committee-meeting-9/2030-08-05/
LOCATION:Bellevue City Hall\, 115 Pine Street\, Bellevue\, ID\, 83313\, United States
CATEGORIES:Planning and Zoning Commissions Meetings
ORGANIZER;CN="Planning and Zoning Commission":MAILTO:cityclerk@bellevueidaho.us
END:VEVENT
BEGIN:VEVENT
DTSTART;TZID=America/Boise:20300819T173000
DTEND;TZID=America/Boise:20300819T193000
DTSTAMP:20260419T214142
CREATED:20260115T234140Z
LAST-MODIFIED:20260312T203132Z
UID:10002755-1913391000-1913398200@bellevueidaho.gov
SUMMARY:Planning & Zoning Commission Meeting
DESCRIPTION:Document NameDocument TypeOptionsCity of Bellevue\, Idaho Planning & Zoning Commission – March 16\, 2026 Meeting PacketMeeting PacketDownload
URL:https://bellevueidaho.gov/event/planning-zoning-commission-meeting/2030-08-19/
LOCATION:Bellevue City Hall\, 115 Pine Street\, Bellevue\, ID\, 83313\, United States
CATEGORIES:Planning and Zoning Commissions Meetings
END:VEVENT
BEGIN:VEVENT
DTSTART;TZID=America/Boise:20300902T173000
DTEND;TZID=America/Boise:20300902T193000
DTSTAMP:20260419T214142
CREATED:20250607T005423Z
LAST-MODIFIED:20251230T195739Z
UID:10002204-1914600600-1914607800@bellevueidaho.gov
SUMMARY:Planning & Zoning Commission Meeting
DESCRIPTION:Document NameDocument TypeOptions
URL:https://bellevueidaho.gov/event/planning-and-zoning-committee-meeting-9/2030-09-02/
LOCATION:Bellevue City Hall\, 115 Pine Street\, Bellevue\, ID\, 83313\, United States
CATEGORIES:Planning and Zoning Commissions Meetings
ORGANIZER;CN="Planning and Zoning Commission":MAILTO:cityclerk@bellevueidaho.us
END:VEVENT
BEGIN:VEVENT
DTSTART;TZID=America/Boise:20300916T173000
DTEND;TZID=America/Boise:20300916T193000
DTSTAMP:20260419T214142
CREATED:20260115T234140Z
LAST-MODIFIED:20260312T203132Z
UID:10002756-1915810200-1915817400@bellevueidaho.gov
SUMMARY:Planning & Zoning Commission Meeting
DESCRIPTION:Document NameDocument TypeOptionsCity of Bellevue\, Idaho Planning & Zoning Commission – March 16\, 2026 Meeting PacketMeeting PacketDownload
URL:https://bellevueidaho.gov/event/planning-zoning-commission-meeting/2030-09-16/
LOCATION:Bellevue City Hall\, 115 Pine Street\, Bellevue\, ID\, 83313\, United States
CATEGORIES:Planning and Zoning Commissions Meetings
END:VEVENT
BEGIN:VEVENT
DTSTART;TZID=America/Boise:20301007T173000
DTEND;TZID=America/Boise:20301007T193000
DTSTAMP:20260419T214143
CREATED:20250607T005423Z
LAST-MODIFIED:20251230T195739Z
UID:10002486-1917624600-1917631800@bellevueidaho.gov
SUMMARY:Planning & Zoning Commission Meeting
DESCRIPTION:Document NameDocument TypeOptions
URL:https://bellevueidaho.gov/event/planning-and-zoning-committee-meeting-9/2030-10-07/
LOCATION:Bellevue City Hall\, 115 Pine Street\, Bellevue\, ID\, 83313\, United States
CATEGORIES:Planning and Zoning Commissions Meetings
ORGANIZER;CN="Planning and Zoning Commission":MAILTO:cityclerk@bellevueidaho.us
END:VEVENT
BEGIN:VEVENT
DTSTART;TZID=America/Boise:20301021T173000
DTEND;TZID=America/Boise:20301021T193000
DTSTAMP:20260419T214143
CREATED:20260115T234140Z
LAST-MODIFIED:20260312T203132Z
UID:10002757-1918834200-1918841400@bellevueidaho.gov
SUMMARY:Planning & Zoning Commission Meeting
DESCRIPTION:Document NameDocument TypeOptionsCity of Bellevue\, Idaho Planning & Zoning Commission – March 16\, 2026 Meeting PacketMeeting PacketDownload
URL:https://bellevueidaho.gov/event/planning-zoning-commission-meeting/2030-10-21/
LOCATION:Bellevue City Hall\, 115 Pine Street\, Bellevue\, ID\, 83313\, United States
CATEGORIES:Planning and Zoning Commissions Meetings
END:VEVENT
BEGIN:VEVENT
DTSTART;TZID=America/Boise:20301104T173000
DTEND;TZID=America/Boise:20301104T193000
DTSTAMP:20260419T214143
CREATED:20250607T005423Z
LAST-MODIFIED:20251230T195739Z
UID:10002506-1920043800-1920051000@bellevueidaho.gov
SUMMARY:Planning & Zoning Commission Meeting
DESCRIPTION:Document NameDocument TypeOptions
URL:https://bellevueidaho.gov/event/planning-and-zoning-committee-meeting-9/2030-11-04/
LOCATION:Bellevue City Hall\, 115 Pine Street\, Bellevue\, ID\, 83313\, United States
CATEGORIES:Planning and Zoning Commissions Meetings
ORGANIZER;CN="Planning and Zoning Commission":MAILTO:cityclerk@bellevueidaho.us
END:VEVENT
BEGIN:VEVENT
DTSTART;TZID=America/Boise:20301118T173000
DTEND;TZID=America/Boise:20301118T193000
DTSTAMP:20260419T214143
CREATED:20260115T234140Z
LAST-MODIFIED:20260312T203132Z
UID:10002758-1921253400-1921260600@bellevueidaho.gov
SUMMARY:Planning & Zoning Commission Meeting
DESCRIPTION:Document NameDocument TypeOptionsCity of Bellevue\, Idaho Planning & Zoning Commission – March 16\, 2026 Meeting PacketMeeting PacketDownload
URL:https://bellevueidaho.gov/event/planning-zoning-commission-meeting/2030-11-18/
LOCATION:Bellevue City Hall\, 115 Pine Street\, Bellevue\, ID\, 83313\, United States
CATEGORIES:Planning and Zoning Commissions Meetings
END:VEVENT
BEGIN:VEVENT
DTSTART;TZID=America/Boise:20301202T173000
DTEND;TZID=America/Boise:20301202T193000
DTSTAMP:20260419T214143
CREATED:20250607T005423Z
LAST-MODIFIED:20251230T195739Z
UID:10002637-1922463000-1922470200@bellevueidaho.gov
SUMMARY:Planning & Zoning Commission Meeting
DESCRIPTION:Document NameDocument TypeOptions
URL:https://bellevueidaho.gov/event/planning-and-zoning-committee-meeting-9/2030-12-02/
LOCATION:Bellevue City Hall\, 115 Pine Street\, Bellevue\, ID\, 83313\, United States
CATEGORIES:Planning and Zoning Commissions Meetings
ORGANIZER;CN="Planning and Zoning Commission":MAILTO:cityclerk@bellevueidaho.us
END:VEVENT
BEGIN:VEVENT
DTSTART;TZID=America/Boise:20301216T173000
DTEND;TZID=America/Boise:20301216T193000
DTSTAMP:20260419T214143
CREATED:20260115T234140Z
LAST-MODIFIED:20260312T203132Z
UID:10002759-1923672600-1923679800@bellevueidaho.gov
SUMMARY:Planning & Zoning Commission Meeting
DESCRIPTION:Document NameDocument TypeOptionsCity of Bellevue\, Idaho Planning & Zoning Commission – March 16\, 2026 Meeting PacketMeeting PacketDownload
URL:https://bellevueidaho.gov/event/planning-zoning-commission-meeting/2030-12-16/
LOCATION:Bellevue City Hall\, 115 Pine Street\, Bellevue\, ID\, 83313\, United States
CATEGORIES:Planning and Zoning Commissions Meetings
END:VEVENT
BEGIN:VEVENT
DTSTART;TZID=America/Boise:20310106T173000
DTEND;TZID=America/Boise:20310106T193000
DTSTAMP:20260419T214143
CREATED:20250607T005423Z
LAST-MODIFIED:20251230T195739Z
UID:10003563-1925487000-1925494200@bellevueidaho.gov
SUMMARY:Planning & Zoning Commission Meeting
DESCRIPTION:Document NameDocument TypeOptions
URL:https://bellevueidaho.gov/event/planning-and-zoning-committee-meeting-9/2031-01-06/
LOCATION:Bellevue City Hall\, 115 Pine Street\, Bellevue\, ID\, 83313\, United States
CATEGORIES:Planning and Zoning Commissions Meetings
ORGANIZER;CN="Planning and Zoning Commission":MAILTO:cityclerk@bellevueidaho.us
END:VEVENT
BEGIN:VEVENT
DTSTART;TZID=America/Boise:20310120T173000
DTEND;TZID=America/Boise:20310120T193000
DTSTAMP:20260419T214143
CREATED:20260115T234140Z
LAST-MODIFIED:20260312T203132Z
UID:10003555-1926696600-1926703800@bellevueidaho.gov
SUMMARY:Planning & Zoning Commission Meeting
DESCRIPTION:Document NameDocument TypeOptionsCity of Bellevue\, Idaho Planning & Zoning Commission – March 16\, 2026 Meeting PacketMeeting PacketDownload
URL:https://bellevueidaho.gov/event/planning-zoning-commission-meeting/2031-01-20/
LOCATION:Bellevue City Hall\, 115 Pine Street\, Bellevue\, ID\, 83313\, United States
CATEGORIES:Planning and Zoning Commissions Meetings
END:VEVENT
END:VCALENDAR