BEGIN:VCALENDAR
VERSION:2.0
PRODID:-//City of Bellevue, Idaho - ECPv6.15.20//NONSGML v1.0//EN
CALSCALE:GREGORIAN
METHOD:PUBLISH
X-WR-CALNAME:City of Bellevue, Idaho
X-ORIGINAL-URL:https://bellevueidaho.gov
X-WR-CALDESC:Events for City of Bellevue, Idaho
REFRESH-INTERVAL;VALUE=DURATION:PT1H
X-Robots-Tag:noindex
X-PUBLISHED-TTL:PT1H
BEGIN:VTIMEZONE
TZID:America/Boise
BEGIN:DAYLIGHT
TZOFFSETFROM:-0700
TZOFFSETTO:-0600
TZNAME:MDT
DTSTART:20290311T090000
END:DAYLIGHT
BEGIN:STANDARD
TZOFFSETFROM:-0600
TZOFFSETTO:-0700
TZNAME:MST
DTSTART:20291104T080000
END:STANDARD
BEGIN:DAYLIGHT
TZOFFSETFROM:-0700
TZOFFSETTO:-0600
TZNAME:MDT
DTSTART:20300310T090000
END:DAYLIGHT
BEGIN:STANDARD
TZOFFSETFROM:-0600
TZOFFSETTO:-0700
TZNAME:MST
DTSTART:20301103T080000
END:STANDARD
BEGIN:DAYLIGHT
TZOFFSETFROM:-0700
TZOFFSETTO:-0600
TZNAME:MDT
DTSTART:20310309T090000
END:DAYLIGHT
BEGIN:STANDARD
TZOFFSETFROM:-0600
TZOFFSETTO:-0700
TZNAME:MST
DTSTART:20311102T080000
END:STANDARD
BEGIN:DAYLIGHT
TZOFFSETFROM:-0700
TZOFFSETTO:-0600
TZNAME:MDT
DTSTART:20320314T090000
END:DAYLIGHT
BEGIN:STANDARD
TZOFFSETFROM:-0600
TZOFFSETTO:-0700
TZNAME:MST
DTSTART:20321107T080000
END:STANDARD
END:VTIMEZONE
BEGIN:VEVENT
DTSTART;TZID=America/Boise:20300619T114500
DTEND;TZID=America/Boise:20300619T120000
DTSTAMP:20260425T144010
CREATED:20250417T223718Z
LAST-MODIFIED:20260123T195549Z
UID:10003056-1908099900-1908100800@bellevueidaho.gov
SUMMARY:Story Time
DESCRIPTION:Storytime for babies and toddlers with an adult.
URL:https://bellevueidaho.gov/event/story-time/2030-06-19/
LOCATION:Bellevue Library\, 117 E. Pine Street\, Bellevue\, ID\, 83313\, United States
CATEGORIES:Library
ATTACH;FMTTYPE=image/png:https://bellevueidaho.gov/wp-content/uploads/2025/04/Storytime.png
ORGANIZER;CN="Bellevue Library":MAILTO:communityservices@bellevueidaho.us
END:VEVENT
BEGIN:VEVENT
DTSTART;TZID=America/Boise:20300626T114500
DTEND;TZID=America/Boise:20300626T120000
DTSTAMP:20260425T144010
CREATED:20250417T223718Z
LAST-MODIFIED:20260123T195549Z
UID:10003057-1908704700-1908705600@bellevueidaho.gov
SUMMARY:Story Time
DESCRIPTION:Storytime for babies and toddlers with an adult.
URL:https://bellevueidaho.gov/event/story-time/2030-06-26/
LOCATION:Bellevue Library\, 117 E. Pine Street\, Bellevue\, ID\, 83313\, United States
CATEGORIES:Library
ATTACH;FMTTYPE=image/png:https://bellevueidaho.gov/wp-content/uploads/2025/04/Storytime.png
ORGANIZER;CN="Bellevue Library":MAILTO:communityservices@bellevueidaho.us
END:VEVENT
BEGIN:VEVENT
DTSTART;TZID=America/Boise:20300703T114500
DTEND;TZID=America/Boise:20300703T120000
DTSTAMP:20260425T144010
CREATED:20250417T223718Z
LAST-MODIFIED:20260123T195549Z
UID:10003058-1909309500-1909310400@bellevueidaho.gov
SUMMARY:Story Time
DESCRIPTION:Storytime for babies and toddlers with an adult.
URL:https://bellevueidaho.gov/event/story-time/2030-07-03/
LOCATION:Bellevue Library\, 117 E. Pine Street\, Bellevue\, ID\, 83313\, United States
CATEGORIES:Library
ATTACH;FMTTYPE=image/png:https://bellevueidaho.gov/wp-content/uploads/2025/04/Storytime.png
ORGANIZER;CN="Bellevue Library":MAILTO:communityservices@bellevueidaho.us
END:VEVENT
BEGIN:VEVENT
DTSTART;TZID=America/Boise:20300710T114500
DTEND;TZID=America/Boise:20300710T120000
DTSTAMP:20260425T144010
CREATED:20250417T223718Z
LAST-MODIFIED:20260123T195549Z
UID:10003059-1909914300-1909915200@bellevueidaho.gov
SUMMARY:Story Time
DESCRIPTION:Storytime for babies and toddlers with an adult.
URL:https://bellevueidaho.gov/event/story-time/2030-07-10/
LOCATION:Bellevue Library\, 117 E. Pine Street\, Bellevue\, ID\, 83313\, United States
CATEGORIES:Library
ATTACH;FMTTYPE=image/png:https://bellevueidaho.gov/wp-content/uploads/2025/04/Storytime.png
ORGANIZER;CN="Bellevue Library":MAILTO:communityservices@bellevueidaho.us
END:VEVENT
BEGIN:VEVENT
DTSTART;TZID=America/Boise:20300717T114500
DTEND;TZID=America/Boise:20300717T120000
DTSTAMP:20260425T144010
CREATED:20250417T223718Z
LAST-MODIFIED:20260123T195549Z
UID:10003060-1910519100-1910520000@bellevueidaho.gov
SUMMARY:Story Time
DESCRIPTION:Storytime for babies and toddlers with an adult.
URL:https://bellevueidaho.gov/event/story-time/2030-07-17/
LOCATION:Bellevue Library\, 117 E. Pine Street\, Bellevue\, ID\, 83313\, United States
CATEGORIES:Library
ATTACH;FMTTYPE=image/png:https://bellevueidaho.gov/wp-content/uploads/2025/04/Storytime.png
ORGANIZER;CN="Bellevue Library":MAILTO:communityservices@bellevueidaho.us
END:VEVENT
BEGIN:VEVENT
DTSTART;TZID=America/Boise:20300724T114500
DTEND;TZID=America/Boise:20300724T120000
DTSTAMP:20260425T144010
CREATED:20250417T223718Z
LAST-MODIFIED:20260123T195549Z
UID:10003061-1911123900-1911124800@bellevueidaho.gov
SUMMARY:Story Time
DESCRIPTION:Storytime for babies and toddlers with an adult.
URL:https://bellevueidaho.gov/event/story-time/2030-07-24/
LOCATION:Bellevue Library\, 117 E. Pine Street\, Bellevue\, ID\, 83313\, United States
CATEGORIES:Library
ATTACH;FMTTYPE=image/png:https://bellevueidaho.gov/wp-content/uploads/2025/04/Storytime.png
ORGANIZER;CN="Bellevue Library":MAILTO:communityservices@bellevueidaho.us
END:VEVENT
BEGIN:VEVENT
DTSTART;TZID=America/Boise:20300731T114500
DTEND;TZID=America/Boise:20300731T120000
DTSTAMP:20260425T144010
CREATED:20250417T223718Z
LAST-MODIFIED:20260123T195549Z
UID:10003062-1911728700-1911729600@bellevueidaho.gov
SUMMARY:Story Time
DESCRIPTION:Storytime for babies and toddlers with an adult.
URL:https://bellevueidaho.gov/event/story-time/2030-07-31/
LOCATION:Bellevue Library\, 117 E. Pine Street\, Bellevue\, ID\, 83313\, United States
CATEGORIES:Library
ATTACH;FMTTYPE=image/png:https://bellevueidaho.gov/wp-content/uploads/2025/04/Storytime.png
ORGANIZER;CN="Bellevue Library":MAILTO:communityservices@bellevueidaho.us
END:VEVENT
BEGIN:VEVENT
DTSTART;TZID=America/Boise:20300807T114500
DTEND;TZID=America/Boise:20300807T120000
DTSTAMP:20260425T144010
CREATED:20250417T223718Z
LAST-MODIFIED:20260123T195549Z
UID:10003063-1912333500-1912334400@bellevueidaho.gov
SUMMARY:Story Time
DESCRIPTION:Storytime for babies and toddlers with an adult.
URL:https://bellevueidaho.gov/event/story-time/2030-08-07/
LOCATION:Bellevue Library\, 117 E. Pine Street\, Bellevue\, ID\, 83313\, United States
CATEGORIES:Library
ATTACH;FMTTYPE=image/png:https://bellevueidaho.gov/wp-content/uploads/2025/04/Storytime.png
ORGANIZER;CN="Bellevue Library":MAILTO:communityservices@bellevueidaho.us
END:VEVENT
BEGIN:VEVENT
DTSTART;TZID=America/Boise:20300814T114500
DTEND;TZID=America/Boise:20300814T120000
DTSTAMP:20260425T144010
CREATED:20250417T223718Z
LAST-MODIFIED:20260123T195549Z
UID:10003064-1912938300-1912939200@bellevueidaho.gov
SUMMARY:Story Time
DESCRIPTION:Storytime for babies and toddlers with an adult.
URL:https://bellevueidaho.gov/event/story-time/2030-08-14/
LOCATION:Bellevue Library\, 117 E. Pine Street\, Bellevue\, ID\, 83313\, United States
CATEGORIES:Library
ATTACH;FMTTYPE=image/png:https://bellevueidaho.gov/wp-content/uploads/2025/04/Storytime.png
ORGANIZER;CN="Bellevue Library":MAILTO:communityservices@bellevueidaho.us
END:VEVENT
BEGIN:VEVENT
DTSTART;TZID=America/Boise:20300821T114500
DTEND;TZID=America/Boise:20300821T120000
DTSTAMP:20260425T144010
CREATED:20250417T223718Z
LAST-MODIFIED:20260123T195549Z
UID:10003065-1913543100-1913544000@bellevueidaho.gov
SUMMARY:Story Time
DESCRIPTION:Storytime for babies and toddlers with an adult.
URL:https://bellevueidaho.gov/event/story-time/2030-08-21/
LOCATION:Bellevue Library\, 117 E. Pine Street\, Bellevue\, ID\, 83313\, United States
CATEGORIES:Library
ATTACH;FMTTYPE=image/png:https://bellevueidaho.gov/wp-content/uploads/2025/04/Storytime.png
ORGANIZER;CN="Bellevue Library":MAILTO:communityservices@bellevueidaho.us
END:VEVENT
BEGIN:VEVENT
DTSTART;TZID=America/Boise:20300828T114500
DTEND;TZID=America/Boise:20300828T120000
DTSTAMP:20260425T144010
CREATED:20250417T223718Z
LAST-MODIFIED:20260123T195549Z
UID:10003066-1914147900-1914148800@bellevueidaho.gov
SUMMARY:Story Time
DESCRIPTION:Storytime for babies and toddlers with an adult.
URL:https://bellevueidaho.gov/event/story-time/2030-08-28/
LOCATION:Bellevue Library\, 117 E. Pine Street\, Bellevue\, ID\, 83313\, United States
CATEGORIES:Library
ATTACH;FMTTYPE=image/png:https://bellevueidaho.gov/wp-content/uploads/2025/04/Storytime.png
ORGANIZER;CN="Bellevue Library":MAILTO:communityservices@bellevueidaho.us
END:VEVENT
BEGIN:VEVENT
DTSTART;TZID=America/Boise:20300904T114500
DTEND;TZID=America/Boise:20300904T120000
DTSTAMP:20260425T144010
CREATED:20250417T223718Z
LAST-MODIFIED:20260123T195549Z
UID:10003067-1914752700-1914753600@bellevueidaho.gov
SUMMARY:Story Time
DESCRIPTION:Storytime for babies and toddlers with an adult.
URL:https://bellevueidaho.gov/event/story-time/2030-09-04/
LOCATION:Bellevue Library\, 117 E. Pine Street\, Bellevue\, ID\, 83313\, United States
CATEGORIES:Library
ATTACH;FMTTYPE=image/png:https://bellevueidaho.gov/wp-content/uploads/2025/04/Storytime.png
ORGANIZER;CN="Bellevue Library":MAILTO:communityservices@bellevueidaho.us
END:VEVENT
BEGIN:VEVENT
DTSTART;TZID=America/Boise:20300911T114500
DTEND;TZID=America/Boise:20300911T120000
DTSTAMP:20260425T144010
CREATED:20250417T223718Z
LAST-MODIFIED:20260123T195549Z
UID:10003068-1915357500-1915358400@bellevueidaho.gov
SUMMARY:Story Time
DESCRIPTION:Storytime for babies and toddlers with an adult.
URL:https://bellevueidaho.gov/event/story-time/2030-09-11/
LOCATION:Bellevue Library\, 117 E. Pine Street\, Bellevue\, ID\, 83313\, United States
CATEGORIES:Library
ATTACH;FMTTYPE=image/png:https://bellevueidaho.gov/wp-content/uploads/2025/04/Storytime.png
ORGANIZER;CN="Bellevue Library":MAILTO:communityservices@bellevueidaho.us
END:VEVENT
BEGIN:VEVENT
DTSTART;TZID=America/Boise:20300918T114500
DTEND;TZID=America/Boise:20300918T120000
DTSTAMP:20260425T144010
CREATED:20250417T223718Z
LAST-MODIFIED:20260123T195549Z
UID:10003069-1915962300-1915963200@bellevueidaho.gov
SUMMARY:Story Time
DESCRIPTION:Storytime for babies and toddlers with an adult.
URL:https://bellevueidaho.gov/event/story-time/2030-09-18/
LOCATION:Bellevue Library\, 117 E. Pine Street\, Bellevue\, ID\, 83313\, United States
CATEGORIES:Library
ATTACH;FMTTYPE=image/png:https://bellevueidaho.gov/wp-content/uploads/2025/04/Storytime.png
ORGANIZER;CN="Bellevue Library":MAILTO:communityservices@bellevueidaho.us
END:VEVENT
BEGIN:VEVENT
DTSTART;TZID=America/Boise:20300925T114500
DTEND;TZID=America/Boise:20300925T120000
DTSTAMP:20260425T144010
CREATED:20250417T223718Z
LAST-MODIFIED:20260123T195549Z
UID:10003070-1916567100-1916568000@bellevueidaho.gov
SUMMARY:Story Time
DESCRIPTION:Storytime for babies and toddlers with an adult.
URL:https://bellevueidaho.gov/event/story-time/2030-09-25/
LOCATION:Bellevue Library\, 117 E. Pine Street\, Bellevue\, ID\, 83313\, United States
CATEGORIES:Library
ATTACH;FMTTYPE=image/png:https://bellevueidaho.gov/wp-content/uploads/2025/04/Storytime.png
ORGANIZER;CN="Bellevue Library":MAILTO:communityservices@bellevueidaho.us
END:VEVENT
BEGIN:VEVENT
DTSTART;TZID=America/Boise:20301002T114500
DTEND;TZID=America/Boise:20301002T120000
DTSTAMP:20260425T144010
CREATED:20250417T223718Z
LAST-MODIFIED:20260123T195549Z
UID:10003071-1917171900-1917172800@bellevueidaho.gov
SUMMARY:Story Time
DESCRIPTION:Storytime for babies and toddlers with an adult.
URL:https://bellevueidaho.gov/event/story-time/2030-10-02/
LOCATION:Bellevue Library\, 117 E. Pine Street\, Bellevue\, ID\, 83313\, United States
CATEGORIES:Library
ATTACH;FMTTYPE=image/png:https://bellevueidaho.gov/wp-content/uploads/2025/04/Storytime.png
ORGANIZER;CN="Bellevue Library":MAILTO:communityservices@bellevueidaho.us
END:VEVENT
BEGIN:VEVENT
DTSTART;TZID=America/Boise:20301009T114500
DTEND;TZID=America/Boise:20301009T120000
DTSTAMP:20260425T144010
CREATED:20250417T223718Z
LAST-MODIFIED:20260123T195549Z
UID:10003072-1917776700-1917777600@bellevueidaho.gov
SUMMARY:Story Time
DESCRIPTION:Storytime for babies and toddlers with an adult.
URL:https://bellevueidaho.gov/event/story-time/2030-10-09/
LOCATION:Bellevue Library\, 117 E. Pine Street\, Bellevue\, ID\, 83313\, United States
CATEGORIES:Library
ATTACH;FMTTYPE=image/png:https://bellevueidaho.gov/wp-content/uploads/2025/04/Storytime.png
ORGANIZER;CN="Bellevue Library":MAILTO:communityservices@bellevueidaho.us
END:VEVENT
BEGIN:VEVENT
DTSTART;TZID=America/Boise:20301016T114500
DTEND;TZID=America/Boise:20301016T120000
DTSTAMP:20260425T144010
CREATED:20250417T223718Z
LAST-MODIFIED:20260123T195549Z
UID:10003073-1918381500-1918382400@bellevueidaho.gov
SUMMARY:Story Time
DESCRIPTION:Storytime for babies and toddlers with an adult.
URL:https://bellevueidaho.gov/event/story-time/2030-10-16/
LOCATION:Bellevue Library\, 117 E. Pine Street\, Bellevue\, ID\, 83313\, United States
CATEGORIES:Library
ATTACH;FMTTYPE=image/png:https://bellevueidaho.gov/wp-content/uploads/2025/04/Storytime.png
ORGANIZER;CN="Bellevue Library":MAILTO:communityservices@bellevueidaho.us
END:VEVENT
BEGIN:VEVENT
DTSTART;TZID=America/Boise:20301023T114500
DTEND;TZID=America/Boise:20301023T120000
DTSTAMP:20260425T144010
CREATED:20250417T223718Z
LAST-MODIFIED:20260123T195549Z
UID:10003074-1918986300-1918987200@bellevueidaho.gov
SUMMARY:Story Time
DESCRIPTION:Storytime for babies and toddlers with an adult.
URL:https://bellevueidaho.gov/event/story-time/2030-10-23/
LOCATION:Bellevue Library\, 117 E. Pine Street\, Bellevue\, ID\, 83313\, United States
CATEGORIES:Library
ATTACH;FMTTYPE=image/png:https://bellevueidaho.gov/wp-content/uploads/2025/04/Storytime.png
ORGANIZER;CN="Bellevue Library":MAILTO:communityservices@bellevueidaho.us
END:VEVENT
BEGIN:VEVENT
DTSTART;TZID=America/Boise:20301030T114500
DTEND;TZID=America/Boise:20301030T120000
DTSTAMP:20260425T144010
CREATED:20250417T223718Z
LAST-MODIFIED:20260123T195549Z
UID:10003075-1919591100-1919592000@bellevueidaho.gov
SUMMARY:Story Time
DESCRIPTION:Storytime for babies and toddlers with an adult.
URL:https://bellevueidaho.gov/event/story-time/2030-10-30/
LOCATION:Bellevue Library\, 117 E. Pine Street\, Bellevue\, ID\, 83313\, United States
CATEGORIES:Library
ATTACH;FMTTYPE=image/png:https://bellevueidaho.gov/wp-content/uploads/2025/04/Storytime.png
ORGANIZER;CN="Bellevue Library":MAILTO:communityservices@bellevueidaho.us
END:VEVENT
BEGIN:VEVENT
DTSTART;TZID=America/Boise:20301106T114500
DTEND;TZID=America/Boise:20301106T120000
DTSTAMP:20260425T144010
CREATED:20250417T223718Z
LAST-MODIFIED:20260123T195549Z
UID:10003076-1920195900-1920196800@bellevueidaho.gov
SUMMARY:Story Time
DESCRIPTION:Storytime for babies and toddlers with an adult.
URL:https://bellevueidaho.gov/event/story-time/2030-11-06/
LOCATION:Bellevue Library\, 117 E. Pine Street\, Bellevue\, ID\, 83313\, United States
CATEGORIES:Library
ATTACH;FMTTYPE=image/png:https://bellevueidaho.gov/wp-content/uploads/2025/04/Storytime.png
ORGANIZER;CN="Bellevue Library":MAILTO:communityservices@bellevueidaho.us
END:VEVENT
BEGIN:VEVENT
DTSTART;TZID=America/Boise:20301113T114500
DTEND;TZID=America/Boise:20301113T120000
DTSTAMP:20260425T144010
CREATED:20250417T223718Z
LAST-MODIFIED:20260123T195549Z
UID:10003077-1920800700-1920801600@bellevueidaho.gov
SUMMARY:Story Time
DESCRIPTION:Storytime for babies and toddlers with an adult.
URL:https://bellevueidaho.gov/event/story-time/2030-11-13/
LOCATION:Bellevue Library\, 117 E. Pine Street\, Bellevue\, ID\, 83313\, United States
CATEGORIES:Library
ATTACH;FMTTYPE=image/png:https://bellevueidaho.gov/wp-content/uploads/2025/04/Storytime.png
ORGANIZER;CN="Bellevue Library":MAILTO:communityservices@bellevueidaho.us
END:VEVENT
BEGIN:VEVENT
DTSTART;TZID=America/Boise:20301120T114500
DTEND;TZID=America/Boise:20301120T120000
DTSTAMP:20260425T144010
CREATED:20250417T223718Z
LAST-MODIFIED:20260123T195549Z
UID:10003078-1921405500-1921406400@bellevueidaho.gov
SUMMARY:Story Time
DESCRIPTION:Storytime for babies and toddlers with an adult.
URL:https://bellevueidaho.gov/event/story-time/2030-11-20/
LOCATION:Bellevue Library\, 117 E. Pine Street\, Bellevue\, ID\, 83313\, United States
CATEGORIES:Library
ATTACH;FMTTYPE=image/png:https://bellevueidaho.gov/wp-content/uploads/2025/04/Storytime.png
ORGANIZER;CN="Bellevue Library":MAILTO:communityservices@bellevueidaho.us
END:VEVENT
BEGIN:VEVENT
DTSTART;TZID=America/Boise:20301127T114500
DTEND;TZID=America/Boise:20301127T120000
DTSTAMP:20260425T144010
CREATED:20250417T223718Z
LAST-MODIFIED:20260123T195549Z
UID:10003079-1922010300-1922011200@bellevueidaho.gov
SUMMARY:Story Time
DESCRIPTION:Storytime for babies and toddlers with an adult.
URL:https://bellevueidaho.gov/event/story-time/2030-11-27/
LOCATION:Bellevue Library\, 117 E. Pine Street\, Bellevue\, ID\, 83313\, United States
CATEGORIES:Library
ATTACH;FMTTYPE=image/png:https://bellevueidaho.gov/wp-content/uploads/2025/04/Storytime.png
ORGANIZER;CN="Bellevue Library":MAILTO:communityservices@bellevueidaho.us
END:VEVENT
BEGIN:VEVENT
DTSTART;TZID=America/Boise:20301204T114500
DTEND;TZID=America/Boise:20301204T120000
DTSTAMP:20260425T144010
CREATED:20250417T223718Z
LAST-MODIFIED:20260123T195549Z
UID:10003080-1922615100-1922616000@bellevueidaho.gov
SUMMARY:Story Time
DESCRIPTION:Storytime for babies and toddlers with an adult.
URL:https://bellevueidaho.gov/event/story-time/2030-12-04/
LOCATION:Bellevue Library\, 117 E. Pine Street\, Bellevue\, ID\, 83313\, United States
CATEGORIES:Library
ATTACH;FMTTYPE=image/png:https://bellevueidaho.gov/wp-content/uploads/2025/04/Storytime.png
ORGANIZER;CN="Bellevue Library":MAILTO:communityservices@bellevueidaho.us
END:VEVENT
BEGIN:VEVENT
DTSTART;TZID=America/Boise:20301211T114500
DTEND;TZID=America/Boise:20301211T120000
DTSTAMP:20260425T144010
CREATED:20250417T223718Z
LAST-MODIFIED:20260123T195549Z
UID:10003081-1923219900-1923220800@bellevueidaho.gov
SUMMARY:Story Time
DESCRIPTION:Storytime for babies and toddlers with an adult.
URL:https://bellevueidaho.gov/event/story-time/2030-12-11/
LOCATION:Bellevue Library\, 117 E. Pine Street\, Bellevue\, ID\, 83313\, United States
CATEGORIES:Library
ATTACH;FMTTYPE=image/png:https://bellevueidaho.gov/wp-content/uploads/2025/04/Storytime.png
ORGANIZER;CN="Bellevue Library":MAILTO:communityservices@bellevueidaho.us
END:VEVENT
BEGIN:VEVENT
DTSTART;TZID=America/Boise:20301218T114500
DTEND;TZID=America/Boise:20301218T120000
DTSTAMP:20260425T144010
CREATED:20250417T223718Z
LAST-MODIFIED:20260123T195549Z
UID:10003082-1923824700-1923825600@bellevueidaho.gov
SUMMARY:Story Time
DESCRIPTION:Storytime for babies and toddlers with an adult.
URL:https://bellevueidaho.gov/event/story-time/2030-12-18/
LOCATION:Bellevue Library\, 117 E. Pine Street\, Bellevue\, ID\, 83313\, United States
CATEGORIES:Library
ATTACH;FMTTYPE=image/png:https://bellevueidaho.gov/wp-content/uploads/2025/04/Storytime.png
ORGANIZER;CN="Bellevue Library":MAILTO:communityservices@bellevueidaho.us
END:VEVENT
BEGIN:VEVENT
DTSTART;TZID=America/Boise:20301225T114500
DTEND;TZID=America/Boise:20301225T120000
DTSTAMP:20260425T144010
CREATED:20250417T223718Z
LAST-MODIFIED:20260123T195549Z
UID:10003083-1924429500-1924430400@bellevueidaho.gov
SUMMARY:Story Time
DESCRIPTION:Storytime for babies and toddlers with an adult.
URL:https://bellevueidaho.gov/event/story-time/2030-12-25/
LOCATION:Bellevue Library\, 117 E. Pine Street\, Bellevue\, ID\, 83313\, United States
CATEGORIES:Library
ATTACH;FMTTYPE=image/png:https://bellevueidaho.gov/wp-content/uploads/2025/04/Storytime.png
ORGANIZER;CN="Bellevue Library":MAILTO:communityservices@bellevueidaho.us
END:VEVENT
BEGIN:VEVENT
DTSTART;TZID=America/Boise:20310101T114500
DTEND;TZID=America/Boise:20310101T120000
DTSTAMP:20260425T144010
CREATED:20250417T223718Z
LAST-MODIFIED:20260123T195549Z
UID:10003084-1925034300-1925035200@bellevueidaho.gov
SUMMARY:Story Time
DESCRIPTION:Storytime for babies and toddlers with an adult.
URL:https://bellevueidaho.gov/event/story-time/2031-01-01/
LOCATION:Bellevue Library\, 117 E. Pine Street\, Bellevue\, ID\, 83313\, United States
CATEGORIES:Library
ATTACH;FMTTYPE=image/png:https://bellevueidaho.gov/wp-content/uploads/2025/04/Storytime.png
ORGANIZER;CN="Bellevue Library":MAILTO:communityservices@bellevueidaho.us
END:VEVENT
BEGIN:VEVENT
DTSTART;TZID=America/Boise:20310108T114500
DTEND;TZID=America/Boise:20310108T120000
DTSTAMP:20260425T144010
CREATED:20250417T223718Z
LAST-MODIFIED:20260123T195549Z
UID:10003085-1925639100-1925640000@bellevueidaho.gov
SUMMARY:Story Time
DESCRIPTION:Storytime for babies and toddlers with an adult.
URL:https://bellevueidaho.gov/event/story-time/2031-01-08/
LOCATION:Bellevue Library\, 117 E. Pine Street\, Bellevue\, ID\, 83313\, United States
CATEGORIES:Library
ATTACH;FMTTYPE=image/png:https://bellevueidaho.gov/wp-content/uploads/2025/04/Storytime.png
ORGANIZER;CN="Bellevue Library":MAILTO:communityservices@bellevueidaho.us
END:VEVENT
END:VCALENDAR