BEGIN:VCALENDAR
VERSION:2.0
PRODID:-//City of Bellevue, Idaho - ECPv6.15.20//NONSGML v1.0//EN
CALSCALE:GREGORIAN
METHOD:PUBLISH
X-WR-CALNAME:City of Bellevue, Idaho
X-ORIGINAL-URL:https://bellevueidaho.gov
X-WR-CALDESC:Events for City of Bellevue, Idaho
REFRESH-INTERVAL;VALUE=DURATION:PT1H
X-Robots-Tag:noindex
X-PUBLISHED-TTL:PT1H
BEGIN:VTIMEZONE
TZID:America/Boise
BEGIN:DAYLIGHT
TZOFFSETFROM:-0700
TZOFFSETTO:-0600
TZNAME:MDT
DTSTART:20290311T090000
END:DAYLIGHT
BEGIN:STANDARD
TZOFFSETFROM:-0600
TZOFFSETTO:-0700
TZNAME:MST
DTSTART:20291104T080000
END:STANDARD
BEGIN:DAYLIGHT
TZOFFSETFROM:-0700
TZOFFSETTO:-0600
TZNAME:MDT
DTSTART:20300310T090000
END:DAYLIGHT
BEGIN:STANDARD
TZOFFSETFROM:-0600
TZOFFSETTO:-0700
TZNAME:MST
DTSTART:20301103T080000
END:STANDARD
BEGIN:DAYLIGHT
TZOFFSETFROM:-0700
TZOFFSETTO:-0600
TZNAME:MDT
DTSTART:20310309T090000
END:DAYLIGHT
BEGIN:STANDARD
TZOFFSETFROM:-0600
TZOFFSETTO:-0700
TZNAME:MST
DTSTART:20311102T080000
END:STANDARD
END:VTIMEZONE
BEGIN:VEVENT
DTSTART;TZID=America/Boise:20300102T114500
DTEND;TZID=America/Boise:20300102T120000
DTSTAMP:20260423T133035
CREATED:20250417T223718Z
LAST-MODIFIED:20260123T195549Z
UID:10003032-1893584700-1893585600@bellevueidaho.gov
SUMMARY:Story Time
DESCRIPTION:Storytime for babies and toddlers with an adult.
URL:https://bellevueidaho.gov/event/story-time/2030-01-02/
LOCATION:Bellevue Library\, 117 E. Pine Street\, Bellevue\, ID\, 83313\, United States
CATEGORIES:Library
ATTACH;FMTTYPE=image/png:https://bellevueidaho.gov/wp-content/uploads/2025/04/Storytime.png
ORGANIZER;CN="Bellevue Library":MAILTO:communityservices@bellevueidaho.us
END:VEVENT
BEGIN:VEVENT
DTSTART;TZID=America/Boise:20300109T114500
DTEND;TZID=America/Boise:20300109T120000
DTSTAMP:20260423T133035
CREATED:20250417T223718Z
LAST-MODIFIED:20260123T195549Z
UID:10003033-1894189500-1894190400@bellevueidaho.gov
SUMMARY:Story Time
DESCRIPTION:Storytime for babies and toddlers with an adult.
URL:https://bellevueidaho.gov/event/story-time/2030-01-09/
LOCATION:Bellevue Library\, 117 E. Pine Street\, Bellevue\, ID\, 83313\, United States
CATEGORIES:Library
ATTACH;FMTTYPE=image/png:https://bellevueidaho.gov/wp-content/uploads/2025/04/Storytime.png
ORGANIZER;CN="Bellevue Library":MAILTO:communityservices@bellevueidaho.us
END:VEVENT
BEGIN:VEVENT
DTSTART;TZID=America/Boise:20300116T114500
DTEND;TZID=America/Boise:20300116T120000
DTSTAMP:20260423T133035
CREATED:20250417T223718Z
LAST-MODIFIED:20260123T195549Z
UID:10003034-1894794300-1894795200@bellevueidaho.gov
SUMMARY:Story Time
DESCRIPTION:Storytime for babies and toddlers with an adult.
URL:https://bellevueidaho.gov/event/story-time/2030-01-16/
LOCATION:Bellevue Library\, 117 E. Pine Street\, Bellevue\, ID\, 83313\, United States
CATEGORIES:Library
ATTACH;FMTTYPE=image/png:https://bellevueidaho.gov/wp-content/uploads/2025/04/Storytime.png
ORGANIZER;CN="Bellevue Library":MAILTO:communityservices@bellevueidaho.us
END:VEVENT
BEGIN:VEVENT
DTSTART;TZID=America/Boise:20300123T114500
DTEND;TZID=America/Boise:20300123T120000
DTSTAMP:20260423T133035
CREATED:20250417T223718Z
LAST-MODIFIED:20260123T195549Z
UID:10003035-1895399100-1895400000@bellevueidaho.gov
SUMMARY:Story Time
DESCRIPTION:Storytime for babies and toddlers with an adult.
URL:https://bellevueidaho.gov/event/story-time/2030-01-23/
LOCATION:Bellevue Library\, 117 E. Pine Street\, Bellevue\, ID\, 83313\, United States
CATEGORIES:Library
ATTACH;FMTTYPE=image/png:https://bellevueidaho.gov/wp-content/uploads/2025/04/Storytime.png
ORGANIZER;CN="Bellevue Library":MAILTO:communityservices@bellevueidaho.us
END:VEVENT
BEGIN:VEVENT
DTSTART;TZID=America/Boise:20300130T114500
DTEND;TZID=America/Boise:20300130T120000
DTSTAMP:20260423T133035
CREATED:20250417T223718Z
LAST-MODIFIED:20260123T195549Z
UID:10003036-1896003900-1896004800@bellevueidaho.gov
SUMMARY:Story Time
DESCRIPTION:Storytime for babies and toddlers with an adult.
URL:https://bellevueidaho.gov/event/story-time/2030-01-30/
LOCATION:Bellevue Library\, 117 E. Pine Street\, Bellevue\, ID\, 83313\, United States
CATEGORIES:Library
ATTACH;FMTTYPE=image/png:https://bellevueidaho.gov/wp-content/uploads/2025/04/Storytime.png
ORGANIZER;CN="Bellevue Library":MAILTO:communityservices@bellevueidaho.us
END:VEVENT
BEGIN:VEVENT
DTSTART;TZID=America/Boise:20300206T114500
DTEND;TZID=America/Boise:20300206T120000
DTSTAMP:20260423T133035
CREATED:20250417T223718Z
LAST-MODIFIED:20260123T195549Z
UID:10003037-1896608700-1896609600@bellevueidaho.gov
SUMMARY:Story Time
DESCRIPTION:Storytime for babies and toddlers with an adult.
URL:https://bellevueidaho.gov/event/story-time/2030-02-06/
LOCATION:Bellevue Library\, 117 E. Pine Street\, Bellevue\, ID\, 83313\, United States
CATEGORIES:Library
ATTACH;FMTTYPE=image/png:https://bellevueidaho.gov/wp-content/uploads/2025/04/Storytime.png
ORGANIZER;CN="Bellevue Library":MAILTO:communityservices@bellevueidaho.us
END:VEVENT
BEGIN:VEVENT
DTSTART;TZID=America/Boise:20300213T114500
DTEND;TZID=America/Boise:20300213T120000
DTSTAMP:20260423T133035
CREATED:20250417T223718Z
LAST-MODIFIED:20260123T195549Z
UID:10003038-1897213500-1897214400@bellevueidaho.gov
SUMMARY:Story Time
DESCRIPTION:Storytime for babies and toddlers with an adult.
URL:https://bellevueidaho.gov/event/story-time/2030-02-13/
LOCATION:Bellevue Library\, 117 E. Pine Street\, Bellevue\, ID\, 83313\, United States
CATEGORIES:Library
ATTACH;FMTTYPE=image/png:https://bellevueidaho.gov/wp-content/uploads/2025/04/Storytime.png
ORGANIZER;CN="Bellevue Library":MAILTO:communityservices@bellevueidaho.us
END:VEVENT
BEGIN:VEVENT
DTSTART;TZID=America/Boise:20300220T114500
DTEND;TZID=America/Boise:20300220T120000
DTSTAMP:20260423T133035
CREATED:20250417T223718Z
LAST-MODIFIED:20260123T195549Z
UID:10003039-1897818300-1897819200@bellevueidaho.gov
SUMMARY:Story Time
DESCRIPTION:Storytime for babies and toddlers with an adult.
URL:https://bellevueidaho.gov/event/story-time/2030-02-20/
LOCATION:Bellevue Library\, 117 E. Pine Street\, Bellevue\, ID\, 83313\, United States
CATEGORIES:Library
ATTACH;FMTTYPE=image/png:https://bellevueidaho.gov/wp-content/uploads/2025/04/Storytime.png
ORGANIZER;CN="Bellevue Library":MAILTO:communityservices@bellevueidaho.us
END:VEVENT
BEGIN:VEVENT
DTSTART;TZID=America/Boise:20300227T114500
DTEND;TZID=America/Boise:20300227T120000
DTSTAMP:20260423T133035
CREATED:20250417T223718Z
LAST-MODIFIED:20260123T195549Z
UID:10003040-1898423100-1898424000@bellevueidaho.gov
SUMMARY:Story Time
DESCRIPTION:Storytime for babies and toddlers with an adult.
URL:https://bellevueidaho.gov/event/story-time/2030-02-27/
LOCATION:Bellevue Library\, 117 E. Pine Street\, Bellevue\, ID\, 83313\, United States
CATEGORIES:Library
ATTACH;FMTTYPE=image/png:https://bellevueidaho.gov/wp-content/uploads/2025/04/Storytime.png
ORGANIZER;CN="Bellevue Library":MAILTO:communityservices@bellevueidaho.us
END:VEVENT
BEGIN:VEVENT
DTSTART;TZID=America/Boise:20300306T114500
DTEND;TZID=America/Boise:20300306T120000
DTSTAMP:20260423T133035
CREATED:20250417T223718Z
LAST-MODIFIED:20260123T195549Z
UID:10003041-1899027900-1899028800@bellevueidaho.gov
SUMMARY:Story Time
DESCRIPTION:Storytime for babies and toddlers with an adult.
URL:https://bellevueidaho.gov/event/story-time/2030-03-06/
LOCATION:Bellevue Library\, 117 E. Pine Street\, Bellevue\, ID\, 83313\, United States
CATEGORIES:Library
ATTACH;FMTTYPE=image/png:https://bellevueidaho.gov/wp-content/uploads/2025/04/Storytime.png
ORGANIZER;CN="Bellevue Library":MAILTO:communityservices@bellevueidaho.us
END:VEVENT
BEGIN:VEVENT
DTSTART;TZID=America/Boise:20300313T114500
DTEND;TZID=America/Boise:20300313T120000
DTSTAMP:20260423T133036
CREATED:20250417T223718Z
LAST-MODIFIED:20260123T195549Z
UID:10003042-1899632700-1899633600@bellevueidaho.gov
SUMMARY:Story Time
DESCRIPTION:Storytime for babies and toddlers with an adult.
URL:https://bellevueidaho.gov/event/story-time/2030-03-13/
LOCATION:Bellevue Library\, 117 E. Pine Street\, Bellevue\, ID\, 83313\, United States
CATEGORIES:Library
ATTACH;FMTTYPE=image/png:https://bellevueidaho.gov/wp-content/uploads/2025/04/Storytime.png
ORGANIZER;CN="Bellevue Library":MAILTO:communityservices@bellevueidaho.us
END:VEVENT
BEGIN:VEVENT
DTSTART;TZID=America/Boise:20300320T114500
DTEND;TZID=America/Boise:20300320T120000
DTSTAMP:20260423T133036
CREATED:20250417T223718Z
LAST-MODIFIED:20260123T195549Z
UID:10003043-1900237500-1900238400@bellevueidaho.gov
SUMMARY:Story Time
DESCRIPTION:Storytime for babies and toddlers with an adult.
URL:https://bellevueidaho.gov/event/story-time/2030-03-20/
LOCATION:Bellevue Library\, 117 E. Pine Street\, Bellevue\, ID\, 83313\, United States
CATEGORIES:Library
ATTACH;FMTTYPE=image/png:https://bellevueidaho.gov/wp-content/uploads/2025/04/Storytime.png
ORGANIZER;CN="Bellevue Library":MAILTO:communityservices@bellevueidaho.us
END:VEVENT
BEGIN:VEVENT
DTSTART;TZID=America/Boise:20300327T114500
DTEND;TZID=America/Boise:20300327T120000
DTSTAMP:20260423T133036
CREATED:20250417T223718Z
LAST-MODIFIED:20260123T195549Z
UID:10003044-1900842300-1900843200@bellevueidaho.gov
SUMMARY:Story Time
DESCRIPTION:Storytime for babies and toddlers with an adult.
URL:https://bellevueidaho.gov/event/story-time/2030-03-27/
LOCATION:Bellevue Library\, 117 E. Pine Street\, Bellevue\, ID\, 83313\, United States
CATEGORIES:Library
ATTACH;FMTTYPE=image/png:https://bellevueidaho.gov/wp-content/uploads/2025/04/Storytime.png
ORGANIZER;CN="Bellevue Library":MAILTO:communityservices@bellevueidaho.us
END:VEVENT
BEGIN:VEVENT
DTSTART;TZID=America/Boise:20300403T114500
DTEND;TZID=America/Boise:20300403T120000
DTSTAMP:20260423T133036
CREATED:20250417T223718Z
LAST-MODIFIED:20260123T195549Z
UID:10003045-1901447100-1901448000@bellevueidaho.gov
SUMMARY:Story Time
DESCRIPTION:Storytime for babies and toddlers with an adult.
URL:https://bellevueidaho.gov/event/story-time/2030-04-03/
LOCATION:Bellevue Library\, 117 E. Pine Street\, Bellevue\, ID\, 83313\, United States
CATEGORIES:Library
ATTACH;FMTTYPE=image/png:https://bellevueidaho.gov/wp-content/uploads/2025/04/Storytime.png
ORGANIZER;CN="Bellevue Library":MAILTO:communityservices@bellevueidaho.us
END:VEVENT
BEGIN:VEVENT
DTSTART;TZID=America/Boise:20300410T114500
DTEND;TZID=America/Boise:20300410T120000
DTSTAMP:20260423T133036
CREATED:20250417T223718Z
LAST-MODIFIED:20260123T195549Z
UID:10003046-1902051900-1902052800@bellevueidaho.gov
SUMMARY:Story Time
DESCRIPTION:Storytime for babies and toddlers with an adult.
URL:https://bellevueidaho.gov/event/story-time/2030-04-10/
LOCATION:Bellevue Library\, 117 E. Pine Street\, Bellevue\, ID\, 83313\, United States
CATEGORIES:Library
ATTACH;FMTTYPE=image/png:https://bellevueidaho.gov/wp-content/uploads/2025/04/Storytime.png
ORGANIZER;CN="Bellevue Library":MAILTO:communityservices@bellevueidaho.us
END:VEVENT
BEGIN:VEVENT
DTSTART;TZID=America/Boise:20300417T114500
DTEND;TZID=America/Boise:20300417T120000
DTSTAMP:20260423T133036
CREATED:20250417T223718Z
LAST-MODIFIED:20260123T195549Z
UID:10003047-1902656700-1902657600@bellevueidaho.gov
SUMMARY:Story Time
DESCRIPTION:Storytime for babies and toddlers with an adult.
URL:https://bellevueidaho.gov/event/story-time/2030-04-17/
LOCATION:Bellevue Library\, 117 E. Pine Street\, Bellevue\, ID\, 83313\, United States
CATEGORIES:Library
ATTACH;FMTTYPE=image/png:https://bellevueidaho.gov/wp-content/uploads/2025/04/Storytime.png
ORGANIZER;CN="Bellevue Library":MAILTO:communityservices@bellevueidaho.us
END:VEVENT
BEGIN:VEVENT
DTSTART;TZID=America/Boise:20300424T114500
DTEND;TZID=America/Boise:20300424T120000
DTSTAMP:20260423T133036
CREATED:20250417T223718Z
LAST-MODIFIED:20260123T195549Z
UID:10003048-1903261500-1903262400@bellevueidaho.gov
SUMMARY:Story Time
DESCRIPTION:Storytime for babies and toddlers with an adult.
URL:https://bellevueidaho.gov/event/story-time/2030-04-24/
LOCATION:Bellevue Library\, 117 E. Pine Street\, Bellevue\, ID\, 83313\, United States
CATEGORIES:Library
ATTACH;FMTTYPE=image/png:https://bellevueidaho.gov/wp-content/uploads/2025/04/Storytime.png
ORGANIZER;CN="Bellevue Library":MAILTO:communityservices@bellevueidaho.us
END:VEVENT
BEGIN:VEVENT
DTSTART;TZID=America/Boise:20300501T114500
DTEND;TZID=America/Boise:20300501T120000
DTSTAMP:20260423T133036
CREATED:20250417T223718Z
LAST-MODIFIED:20260123T195549Z
UID:10003049-1903866300-1903867200@bellevueidaho.gov
SUMMARY:Story Time
DESCRIPTION:Storytime for babies and toddlers with an adult.
URL:https://bellevueidaho.gov/event/story-time/2030-05-01/
LOCATION:Bellevue Library\, 117 E. Pine Street\, Bellevue\, ID\, 83313\, United States
CATEGORIES:Library
ATTACH;FMTTYPE=image/png:https://bellevueidaho.gov/wp-content/uploads/2025/04/Storytime.png
ORGANIZER;CN="Bellevue Library":MAILTO:communityservices@bellevueidaho.us
END:VEVENT
BEGIN:VEVENT
DTSTART;TZID=America/Boise:20300508T114500
DTEND;TZID=America/Boise:20300508T120000
DTSTAMP:20260423T133036
CREATED:20250417T223718Z
LAST-MODIFIED:20260123T195549Z
UID:10003050-1904471100-1904472000@bellevueidaho.gov
SUMMARY:Story Time
DESCRIPTION:Storytime for babies and toddlers with an adult.
URL:https://bellevueidaho.gov/event/story-time/2030-05-08/
LOCATION:Bellevue Library\, 117 E. Pine Street\, Bellevue\, ID\, 83313\, United States
CATEGORIES:Library
ATTACH;FMTTYPE=image/png:https://bellevueidaho.gov/wp-content/uploads/2025/04/Storytime.png
ORGANIZER;CN="Bellevue Library":MAILTO:communityservices@bellevueidaho.us
END:VEVENT
BEGIN:VEVENT
DTSTART;TZID=America/Boise:20300515T114500
DTEND;TZID=America/Boise:20300515T120000
DTSTAMP:20260423T133036
CREATED:20250417T223718Z
LAST-MODIFIED:20260123T195549Z
UID:10003051-1905075900-1905076800@bellevueidaho.gov
SUMMARY:Story Time
DESCRIPTION:Storytime for babies and toddlers with an adult.
URL:https://bellevueidaho.gov/event/story-time/2030-05-15/
LOCATION:Bellevue Library\, 117 E. Pine Street\, Bellevue\, ID\, 83313\, United States
CATEGORIES:Library
ATTACH;FMTTYPE=image/png:https://bellevueidaho.gov/wp-content/uploads/2025/04/Storytime.png
ORGANIZER;CN="Bellevue Library":MAILTO:communityservices@bellevueidaho.us
END:VEVENT
BEGIN:VEVENT
DTSTART;TZID=America/Boise:20300522T114500
DTEND;TZID=America/Boise:20300522T120000
DTSTAMP:20260423T133036
CREATED:20250417T223718Z
LAST-MODIFIED:20260123T195549Z
UID:10003052-1905680700-1905681600@bellevueidaho.gov
SUMMARY:Story Time
DESCRIPTION:Storytime for babies and toddlers with an adult.
URL:https://bellevueidaho.gov/event/story-time/2030-05-22/
LOCATION:Bellevue Library\, 117 E. Pine Street\, Bellevue\, ID\, 83313\, United States
CATEGORIES:Library
ATTACH;FMTTYPE=image/png:https://bellevueidaho.gov/wp-content/uploads/2025/04/Storytime.png
ORGANIZER;CN="Bellevue Library":MAILTO:communityservices@bellevueidaho.us
END:VEVENT
BEGIN:VEVENT
DTSTART;TZID=America/Boise:20300529T114500
DTEND;TZID=America/Boise:20300529T120000
DTSTAMP:20260423T133036
CREATED:20250417T223718Z
LAST-MODIFIED:20260123T195549Z
UID:10003053-1906285500-1906286400@bellevueidaho.gov
SUMMARY:Story Time
DESCRIPTION:Storytime for babies and toddlers with an adult.
URL:https://bellevueidaho.gov/event/story-time/2030-05-29/
LOCATION:Bellevue Library\, 117 E. Pine Street\, Bellevue\, ID\, 83313\, United States
CATEGORIES:Library
ATTACH;FMTTYPE=image/png:https://bellevueidaho.gov/wp-content/uploads/2025/04/Storytime.png
ORGANIZER;CN="Bellevue Library":MAILTO:communityservices@bellevueidaho.us
END:VEVENT
BEGIN:VEVENT
DTSTART;TZID=America/Boise:20300605T114500
DTEND;TZID=America/Boise:20300605T120000
DTSTAMP:20260423T133036
CREATED:20250417T223718Z
LAST-MODIFIED:20260123T195549Z
UID:10003054-1906890300-1906891200@bellevueidaho.gov
SUMMARY:Story Time
DESCRIPTION:Storytime for babies and toddlers with an adult.
URL:https://bellevueidaho.gov/event/story-time/2030-06-05/
LOCATION:Bellevue Library\, 117 E. Pine Street\, Bellevue\, ID\, 83313\, United States
CATEGORIES:Library
ATTACH;FMTTYPE=image/png:https://bellevueidaho.gov/wp-content/uploads/2025/04/Storytime.png
ORGANIZER;CN="Bellevue Library":MAILTO:communityservices@bellevueidaho.us
END:VEVENT
BEGIN:VEVENT
DTSTART;TZID=America/Boise:20300612T114500
DTEND;TZID=America/Boise:20300612T120000
DTSTAMP:20260423T133036
CREATED:20250417T223718Z
LAST-MODIFIED:20260123T195549Z
UID:10003055-1907495100-1907496000@bellevueidaho.gov
SUMMARY:Story Time
DESCRIPTION:Storytime for babies and toddlers with an adult.
URL:https://bellevueidaho.gov/event/story-time/2030-06-12/
LOCATION:Bellevue Library\, 117 E. Pine Street\, Bellevue\, ID\, 83313\, United States
CATEGORIES:Library
ATTACH;FMTTYPE=image/png:https://bellevueidaho.gov/wp-content/uploads/2025/04/Storytime.png
ORGANIZER;CN="Bellevue Library":MAILTO:communityservices@bellevueidaho.us
END:VEVENT
BEGIN:VEVENT
DTSTART;TZID=America/Boise:20300619T114500
DTEND;TZID=America/Boise:20300619T120000
DTSTAMP:20260423T133036
CREATED:20250417T223718Z
LAST-MODIFIED:20260123T195549Z
UID:10003056-1908099900-1908100800@bellevueidaho.gov
SUMMARY:Story Time
DESCRIPTION:Storytime for babies and toddlers with an adult.
URL:https://bellevueidaho.gov/event/story-time/2030-06-19/
LOCATION:Bellevue Library\, 117 E. Pine Street\, Bellevue\, ID\, 83313\, United States
CATEGORIES:Library
ATTACH;FMTTYPE=image/png:https://bellevueidaho.gov/wp-content/uploads/2025/04/Storytime.png
ORGANIZER;CN="Bellevue Library":MAILTO:communityservices@bellevueidaho.us
END:VEVENT
BEGIN:VEVENT
DTSTART;TZID=America/Boise:20300626T114500
DTEND;TZID=America/Boise:20300626T120000
DTSTAMP:20260423T133036
CREATED:20250417T223718Z
LAST-MODIFIED:20260123T195549Z
UID:10003057-1908704700-1908705600@bellevueidaho.gov
SUMMARY:Story Time
DESCRIPTION:Storytime for babies and toddlers with an adult.
URL:https://bellevueidaho.gov/event/story-time/2030-06-26/
LOCATION:Bellevue Library\, 117 E. Pine Street\, Bellevue\, ID\, 83313\, United States
CATEGORIES:Library
ATTACH;FMTTYPE=image/png:https://bellevueidaho.gov/wp-content/uploads/2025/04/Storytime.png
ORGANIZER;CN="Bellevue Library":MAILTO:communityservices@bellevueidaho.us
END:VEVENT
BEGIN:VEVENT
DTSTART;TZID=America/Boise:20300703T114500
DTEND;TZID=America/Boise:20300703T120000
DTSTAMP:20260423T133036
CREATED:20250417T223718Z
LAST-MODIFIED:20260123T195549Z
UID:10003058-1909309500-1909310400@bellevueidaho.gov
SUMMARY:Story Time
DESCRIPTION:Storytime for babies and toddlers with an adult.
URL:https://bellevueidaho.gov/event/story-time/2030-07-03/
LOCATION:Bellevue Library\, 117 E. Pine Street\, Bellevue\, ID\, 83313\, United States
CATEGORIES:Library
ATTACH;FMTTYPE=image/png:https://bellevueidaho.gov/wp-content/uploads/2025/04/Storytime.png
ORGANIZER;CN="Bellevue Library":MAILTO:communityservices@bellevueidaho.us
END:VEVENT
BEGIN:VEVENT
DTSTART;TZID=America/Boise:20300710T114500
DTEND;TZID=America/Boise:20300710T120000
DTSTAMP:20260423T133036
CREATED:20250417T223718Z
LAST-MODIFIED:20260123T195549Z
UID:10003059-1909914300-1909915200@bellevueidaho.gov
SUMMARY:Story Time
DESCRIPTION:Storytime for babies and toddlers with an adult.
URL:https://bellevueidaho.gov/event/story-time/2030-07-10/
LOCATION:Bellevue Library\, 117 E. Pine Street\, Bellevue\, ID\, 83313\, United States
CATEGORIES:Library
ATTACH;FMTTYPE=image/png:https://bellevueidaho.gov/wp-content/uploads/2025/04/Storytime.png
ORGANIZER;CN="Bellevue Library":MAILTO:communityservices@bellevueidaho.us
END:VEVENT
BEGIN:VEVENT
DTSTART;TZID=America/Boise:20300717T114500
DTEND;TZID=America/Boise:20300717T120000
DTSTAMP:20260423T133036
CREATED:20250417T223718Z
LAST-MODIFIED:20260123T195549Z
UID:10003060-1910519100-1910520000@bellevueidaho.gov
SUMMARY:Story Time
DESCRIPTION:Storytime for babies and toddlers with an adult.
URL:https://bellevueidaho.gov/event/story-time/2030-07-17/
LOCATION:Bellevue Library\, 117 E. Pine Street\, Bellevue\, ID\, 83313\, United States
CATEGORIES:Library
ATTACH;FMTTYPE=image/png:https://bellevueidaho.gov/wp-content/uploads/2025/04/Storytime.png
ORGANIZER;CN="Bellevue Library":MAILTO:communityservices@bellevueidaho.us
END:VEVENT
BEGIN:VEVENT
DTSTART;TZID=America/Boise:20300724T114500
DTEND;TZID=America/Boise:20300724T120000
DTSTAMP:20260423T133036
CREATED:20250417T223718Z
LAST-MODIFIED:20260123T195549Z
UID:10003061-1911123900-1911124800@bellevueidaho.gov
SUMMARY:Story Time
DESCRIPTION:Storytime for babies and toddlers with an adult.
URL:https://bellevueidaho.gov/event/story-time/2030-07-24/
LOCATION:Bellevue Library\, 117 E. Pine Street\, Bellevue\, ID\, 83313\, United States
CATEGORIES:Library
ATTACH;FMTTYPE=image/png:https://bellevueidaho.gov/wp-content/uploads/2025/04/Storytime.png
ORGANIZER;CN="Bellevue Library":MAILTO:communityservices@bellevueidaho.us
END:VEVENT
END:VCALENDAR