BEGIN:VCALENDAR
VERSION:2.0
PRODID:-//City of Bellevue, Idaho - ECPv6.15.20//NONSGML v1.0//EN
CALSCALE:GREGORIAN
METHOD:PUBLISH
X-WR-CALNAME:City of Bellevue, Idaho
X-ORIGINAL-URL:https://bellevueidaho.gov
X-WR-CALDESC:Events for City of Bellevue, Idaho
REFRESH-INTERVAL;VALUE=DURATION:PT1H
X-Robots-Tag:noindex
X-PUBLISHED-TTL:PT1H
BEGIN:VTIMEZONE
TZID:America/Boise
BEGIN:DAYLIGHT
TZOFFSETFROM:-0700
TZOFFSETTO:-0600
TZNAME:MDT
DTSTART:20280312T090000
END:DAYLIGHT
BEGIN:STANDARD
TZOFFSETFROM:-0600
TZOFFSETTO:-0700
TZNAME:MST
DTSTART:20281105T080000
END:STANDARD
BEGIN:DAYLIGHT
TZOFFSETFROM:-0700
TZOFFSETTO:-0600
TZNAME:MDT
DTSTART:20290311T090000
END:DAYLIGHT
BEGIN:STANDARD
TZOFFSETFROM:-0600
TZOFFSETTO:-0700
TZNAME:MST
DTSTART:20291104T080000
END:STANDARD
BEGIN:DAYLIGHT
TZOFFSETFROM:-0700
TZOFFSETTO:-0600
TZNAME:MDT
DTSTART:20300310T090000
END:DAYLIGHT
BEGIN:STANDARD
TZOFFSETFROM:-0600
TZOFFSETTO:-0700
TZNAME:MST
DTSTART:20301103T080000
END:STANDARD
BEGIN:DAYLIGHT
TZOFFSETFROM:-0700
TZOFFSETTO:-0600
TZNAME:MDT
DTSTART:20310309T090000
END:DAYLIGHT
BEGIN:STANDARD
TZOFFSETFROM:-0600
TZOFFSETTO:-0700
TZNAME:MST
DTSTART:20311102T080000
END:STANDARD
END:VTIMEZONE
BEGIN:VEVENT
DTSTART;TZID=America/Boise:20290718T114500
DTEND;TZID=America/Boise:20290718T120000
DTSTAMP:20260423T101217
CREATED:20250417T223718Z
LAST-MODIFIED:20260123T195549Z
UID:10003008-1879069500-1879070400@bellevueidaho.gov
SUMMARY:Story Time
DESCRIPTION:Storytime for babies and toddlers with an adult.
URL:https://bellevueidaho.gov/event/story-time/2029-07-18/
LOCATION:Bellevue Library\, 117 E. Pine Street\, Bellevue\, ID\, 83313\, United States
CATEGORIES:Library
ATTACH;FMTTYPE=image/png:https://bellevueidaho.gov/wp-content/uploads/2025/04/Storytime.png
ORGANIZER;CN="Bellevue Library":MAILTO:communityservices@bellevueidaho.us
END:VEVENT
BEGIN:VEVENT
DTSTART;TZID=America/Boise:20290725T114500
DTEND;TZID=America/Boise:20290725T120000
DTSTAMP:20260423T101218
CREATED:20250417T223718Z
LAST-MODIFIED:20260123T195549Z
UID:10003009-1879674300-1879675200@bellevueidaho.gov
SUMMARY:Story Time
DESCRIPTION:Storytime for babies and toddlers with an adult.
URL:https://bellevueidaho.gov/event/story-time/2029-07-25/
LOCATION:Bellevue Library\, 117 E. Pine Street\, Bellevue\, ID\, 83313\, United States
CATEGORIES:Library
ATTACH;FMTTYPE=image/png:https://bellevueidaho.gov/wp-content/uploads/2025/04/Storytime.png
ORGANIZER;CN="Bellevue Library":MAILTO:communityservices@bellevueidaho.us
END:VEVENT
BEGIN:VEVENT
DTSTART;TZID=America/Boise:20290801T114500
DTEND;TZID=America/Boise:20290801T120000
DTSTAMP:20260423T101218
CREATED:20250417T223718Z
LAST-MODIFIED:20260123T195549Z
UID:10003010-1880279100-1880280000@bellevueidaho.gov
SUMMARY:Story Time
DESCRIPTION:Storytime for babies and toddlers with an adult.
URL:https://bellevueidaho.gov/event/story-time/2029-08-01/
LOCATION:Bellevue Library\, 117 E. Pine Street\, Bellevue\, ID\, 83313\, United States
CATEGORIES:Library
ATTACH;FMTTYPE=image/png:https://bellevueidaho.gov/wp-content/uploads/2025/04/Storytime.png
ORGANIZER;CN="Bellevue Library":MAILTO:communityservices@bellevueidaho.us
END:VEVENT
BEGIN:VEVENT
DTSTART;TZID=America/Boise:20290808T114500
DTEND;TZID=America/Boise:20290808T120000
DTSTAMP:20260423T101218
CREATED:20250417T223718Z
LAST-MODIFIED:20260123T195549Z
UID:10003011-1880883900-1880884800@bellevueidaho.gov
SUMMARY:Story Time
DESCRIPTION:Storytime for babies and toddlers with an adult.
URL:https://bellevueidaho.gov/event/story-time/2029-08-08/
LOCATION:Bellevue Library\, 117 E. Pine Street\, Bellevue\, ID\, 83313\, United States
CATEGORIES:Library
ATTACH;FMTTYPE=image/png:https://bellevueidaho.gov/wp-content/uploads/2025/04/Storytime.png
ORGANIZER;CN="Bellevue Library":MAILTO:communityservices@bellevueidaho.us
END:VEVENT
BEGIN:VEVENT
DTSTART;TZID=America/Boise:20290815T114500
DTEND;TZID=America/Boise:20290815T120000
DTSTAMP:20260423T101218
CREATED:20250417T223718Z
LAST-MODIFIED:20260123T195549Z
UID:10003012-1881488700-1881489600@bellevueidaho.gov
SUMMARY:Story Time
DESCRIPTION:Storytime for babies and toddlers with an adult.
URL:https://bellevueidaho.gov/event/story-time/2029-08-15/
LOCATION:Bellevue Library\, 117 E. Pine Street\, Bellevue\, ID\, 83313\, United States
CATEGORIES:Library
ATTACH;FMTTYPE=image/png:https://bellevueidaho.gov/wp-content/uploads/2025/04/Storytime.png
ORGANIZER;CN="Bellevue Library":MAILTO:communityservices@bellevueidaho.us
END:VEVENT
BEGIN:VEVENT
DTSTART;TZID=America/Boise:20290822T114500
DTEND;TZID=America/Boise:20290822T120000
DTSTAMP:20260423T101218
CREATED:20250417T223718Z
LAST-MODIFIED:20260123T195549Z
UID:10003013-1882093500-1882094400@bellevueidaho.gov
SUMMARY:Story Time
DESCRIPTION:Storytime for babies and toddlers with an adult.
URL:https://bellevueidaho.gov/event/story-time/2029-08-22/
LOCATION:Bellevue Library\, 117 E. Pine Street\, Bellevue\, ID\, 83313\, United States
CATEGORIES:Library
ATTACH;FMTTYPE=image/png:https://bellevueidaho.gov/wp-content/uploads/2025/04/Storytime.png
ORGANIZER;CN="Bellevue Library":MAILTO:communityservices@bellevueidaho.us
END:VEVENT
BEGIN:VEVENT
DTSTART;TZID=America/Boise:20290829T114500
DTEND;TZID=America/Boise:20290829T120000
DTSTAMP:20260423T101218
CREATED:20250417T223718Z
LAST-MODIFIED:20260123T195549Z
UID:10003014-1882698300-1882699200@bellevueidaho.gov
SUMMARY:Story Time
DESCRIPTION:Storytime for babies and toddlers with an adult.
URL:https://bellevueidaho.gov/event/story-time/2029-08-29/
LOCATION:Bellevue Library\, 117 E. Pine Street\, Bellevue\, ID\, 83313\, United States
CATEGORIES:Library
ATTACH;FMTTYPE=image/png:https://bellevueidaho.gov/wp-content/uploads/2025/04/Storytime.png
ORGANIZER;CN="Bellevue Library":MAILTO:communityservices@bellevueidaho.us
END:VEVENT
BEGIN:VEVENT
DTSTART;TZID=America/Boise:20290905T114500
DTEND;TZID=America/Boise:20290905T120000
DTSTAMP:20260423T101218
CREATED:20250417T223718Z
LAST-MODIFIED:20260123T195549Z
UID:10003015-1883303100-1883304000@bellevueidaho.gov
SUMMARY:Story Time
DESCRIPTION:Storytime for babies and toddlers with an adult.
URL:https://bellevueidaho.gov/event/story-time/2029-09-05/
LOCATION:Bellevue Library\, 117 E. Pine Street\, Bellevue\, ID\, 83313\, United States
CATEGORIES:Library
ATTACH;FMTTYPE=image/png:https://bellevueidaho.gov/wp-content/uploads/2025/04/Storytime.png
ORGANIZER;CN="Bellevue Library":MAILTO:communityservices@bellevueidaho.us
END:VEVENT
BEGIN:VEVENT
DTSTART;TZID=America/Boise:20290912T114500
DTEND;TZID=America/Boise:20290912T120000
DTSTAMP:20260423T101218
CREATED:20250417T223718Z
LAST-MODIFIED:20260123T195549Z
UID:10003016-1883907900-1883908800@bellevueidaho.gov
SUMMARY:Story Time
DESCRIPTION:Storytime for babies and toddlers with an adult.
URL:https://bellevueidaho.gov/event/story-time/2029-09-12/
LOCATION:Bellevue Library\, 117 E. Pine Street\, Bellevue\, ID\, 83313\, United States
CATEGORIES:Library
ATTACH;FMTTYPE=image/png:https://bellevueidaho.gov/wp-content/uploads/2025/04/Storytime.png
ORGANIZER;CN="Bellevue Library":MAILTO:communityservices@bellevueidaho.us
END:VEVENT
BEGIN:VEVENT
DTSTART;TZID=America/Boise:20290919T114500
DTEND;TZID=America/Boise:20290919T120000
DTSTAMP:20260423T101218
CREATED:20250417T223718Z
LAST-MODIFIED:20260123T195549Z
UID:10003017-1884512700-1884513600@bellevueidaho.gov
SUMMARY:Story Time
DESCRIPTION:Storytime for babies and toddlers with an adult.
URL:https://bellevueidaho.gov/event/story-time/2029-09-19/
LOCATION:Bellevue Library\, 117 E. Pine Street\, Bellevue\, ID\, 83313\, United States
CATEGORIES:Library
ATTACH;FMTTYPE=image/png:https://bellevueidaho.gov/wp-content/uploads/2025/04/Storytime.png
ORGANIZER;CN="Bellevue Library":MAILTO:communityservices@bellevueidaho.us
END:VEVENT
BEGIN:VEVENT
DTSTART;TZID=America/Boise:20290926T114500
DTEND;TZID=America/Boise:20290926T120000
DTSTAMP:20260423T101218
CREATED:20250417T223718Z
LAST-MODIFIED:20260123T195549Z
UID:10003018-1885117500-1885118400@bellevueidaho.gov
SUMMARY:Story Time
DESCRIPTION:Storytime for babies and toddlers with an adult.
URL:https://bellevueidaho.gov/event/story-time/2029-09-26/
LOCATION:Bellevue Library\, 117 E. Pine Street\, Bellevue\, ID\, 83313\, United States
CATEGORIES:Library
ATTACH;FMTTYPE=image/png:https://bellevueidaho.gov/wp-content/uploads/2025/04/Storytime.png
ORGANIZER;CN="Bellevue Library":MAILTO:communityservices@bellevueidaho.us
END:VEVENT
BEGIN:VEVENT
DTSTART;TZID=America/Boise:20291003T114500
DTEND;TZID=America/Boise:20291003T120000
DTSTAMP:20260423T101218
CREATED:20250417T223718Z
LAST-MODIFIED:20260123T195549Z
UID:10003019-1885722300-1885723200@bellevueidaho.gov
SUMMARY:Story Time
DESCRIPTION:Storytime for babies and toddlers with an adult.
URL:https://bellevueidaho.gov/event/story-time/2029-10-03/
LOCATION:Bellevue Library\, 117 E. Pine Street\, Bellevue\, ID\, 83313\, United States
CATEGORIES:Library
ATTACH;FMTTYPE=image/png:https://bellevueidaho.gov/wp-content/uploads/2025/04/Storytime.png
ORGANIZER;CN="Bellevue Library":MAILTO:communityservices@bellevueidaho.us
END:VEVENT
BEGIN:VEVENT
DTSTART;TZID=America/Boise:20291010T114500
DTEND;TZID=America/Boise:20291010T120000
DTSTAMP:20260423T101218
CREATED:20250417T223718Z
LAST-MODIFIED:20260123T195549Z
UID:10003020-1886327100-1886328000@bellevueidaho.gov
SUMMARY:Story Time
DESCRIPTION:Storytime for babies and toddlers with an adult.
URL:https://bellevueidaho.gov/event/story-time/2029-10-10/
LOCATION:Bellevue Library\, 117 E. Pine Street\, Bellevue\, ID\, 83313\, United States
CATEGORIES:Library
ATTACH;FMTTYPE=image/png:https://bellevueidaho.gov/wp-content/uploads/2025/04/Storytime.png
ORGANIZER;CN="Bellevue Library":MAILTO:communityservices@bellevueidaho.us
END:VEVENT
BEGIN:VEVENT
DTSTART;TZID=America/Boise:20291017T114500
DTEND;TZID=America/Boise:20291017T120000
DTSTAMP:20260423T101218
CREATED:20250417T223718Z
LAST-MODIFIED:20260123T195549Z
UID:10003021-1886931900-1886932800@bellevueidaho.gov
SUMMARY:Story Time
DESCRIPTION:Storytime for babies and toddlers with an adult.
URL:https://bellevueidaho.gov/event/story-time/2029-10-17/
LOCATION:Bellevue Library\, 117 E. Pine Street\, Bellevue\, ID\, 83313\, United States
CATEGORIES:Library
ATTACH;FMTTYPE=image/png:https://bellevueidaho.gov/wp-content/uploads/2025/04/Storytime.png
ORGANIZER;CN="Bellevue Library":MAILTO:communityservices@bellevueidaho.us
END:VEVENT
BEGIN:VEVENT
DTSTART;TZID=America/Boise:20291024T114500
DTEND;TZID=America/Boise:20291024T120000
DTSTAMP:20260423T101218
CREATED:20250417T223718Z
LAST-MODIFIED:20260123T195549Z
UID:10003022-1887536700-1887537600@bellevueidaho.gov
SUMMARY:Story Time
DESCRIPTION:Storytime for babies and toddlers with an adult.
URL:https://bellevueidaho.gov/event/story-time/2029-10-24/
LOCATION:Bellevue Library\, 117 E. Pine Street\, Bellevue\, ID\, 83313\, United States
CATEGORIES:Library
ATTACH;FMTTYPE=image/png:https://bellevueidaho.gov/wp-content/uploads/2025/04/Storytime.png
ORGANIZER;CN="Bellevue Library":MAILTO:communityservices@bellevueidaho.us
END:VEVENT
BEGIN:VEVENT
DTSTART;TZID=America/Boise:20291031T114500
DTEND;TZID=America/Boise:20291031T120000
DTSTAMP:20260423T101218
CREATED:20250417T223718Z
LAST-MODIFIED:20260123T195549Z
UID:10003023-1888141500-1888142400@bellevueidaho.gov
SUMMARY:Story Time
DESCRIPTION:Storytime for babies and toddlers with an adult.
URL:https://bellevueidaho.gov/event/story-time/2029-10-31/
LOCATION:Bellevue Library\, 117 E. Pine Street\, Bellevue\, ID\, 83313\, United States
CATEGORIES:Library
ATTACH;FMTTYPE=image/png:https://bellevueidaho.gov/wp-content/uploads/2025/04/Storytime.png
ORGANIZER;CN="Bellevue Library":MAILTO:communityservices@bellevueidaho.us
END:VEVENT
BEGIN:VEVENT
DTSTART;TZID=America/Boise:20291107T114500
DTEND;TZID=America/Boise:20291107T120000
DTSTAMP:20260423T101218
CREATED:20250417T223718Z
LAST-MODIFIED:20260123T195549Z
UID:10003024-1888746300-1888747200@bellevueidaho.gov
SUMMARY:Story Time
DESCRIPTION:Storytime for babies and toddlers with an adult.
URL:https://bellevueidaho.gov/event/story-time/2029-11-07/
LOCATION:Bellevue Library\, 117 E. Pine Street\, Bellevue\, ID\, 83313\, United States
CATEGORIES:Library
ATTACH;FMTTYPE=image/png:https://bellevueidaho.gov/wp-content/uploads/2025/04/Storytime.png
ORGANIZER;CN="Bellevue Library":MAILTO:communityservices@bellevueidaho.us
END:VEVENT
BEGIN:VEVENT
DTSTART;TZID=America/Boise:20291114T114500
DTEND;TZID=America/Boise:20291114T120000
DTSTAMP:20260423T101218
CREATED:20250417T223718Z
LAST-MODIFIED:20260123T195549Z
UID:10003025-1889351100-1889352000@bellevueidaho.gov
SUMMARY:Story Time
DESCRIPTION:Storytime for babies and toddlers with an adult.
URL:https://bellevueidaho.gov/event/story-time/2029-11-14/
LOCATION:Bellevue Library\, 117 E. Pine Street\, Bellevue\, ID\, 83313\, United States
CATEGORIES:Library
ATTACH;FMTTYPE=image/png:https://bellevueidaho.gov/wp-content/uploads/2025/04/Storytime.png
ORGANIZER;CN="Bellevue Library":MAILTO:communityservices@bellevueidaho.us
END:VEVENT
BEGIN:VEVENT
DTSTART;TZID=America/Boise:20291121T114500
DTEND;TZID=America/Boise:20291121T120000
DTSTAMP:20260423T101218
CREATED:20250417T223718Z
LAST-MODIFIED:20260123T195549Z
UID:10003026-1889955900-1889956800@bellevueidaho.gov
SUMMARY:Story Time
DESCRIPTION:Storytime for babies and toddlers with an adult.
URL:https://bellevueidaho.gov/event/story-time/2029-11-21/
LOCATION:Bellevue Library\, 117 E. Pine Street\, Bellevue\, ID\, 83313\, United States
CATEGORIES:Library
ATTACH;FMTTYPE=image/png:https://bellevueidaho.gov/wp-content/uploads/2025/04/Storytime.png
ORGANIZER;CN="Bellevue Library":MAILTO:communityservices@bellevueidaho.us
END:VEVENT
BEGIN:VEVENT
DTSTART;TZID=America/Boise:20291128T114500
DTEND;TZID=America/Boise:20291128T120000
DTSTAMP:20260423T101218
CREATED:20250417T223718Z
LAST-MODIFIED:20260123T195549Z
UID:10003027-1890560700-1890561600@bellevueidaho.gov
SUMMARY:Story Time
DESCRIPTION:Storytime for babies and toddlers with an adult.
URL:https://bellevueidaho.gov/event/story-time/2029-11-28/
LOCATION:Bellevue Library\, 117 E. Pine Street\, Bellevue\, ID\, 83313\, United States
CATEGORIES:Library
ATTACH;FMTTYPE=image/png:https://bellevueidaho.gov/wp-content/uploads/2025/04/Storytime.png
ORGANIZER;CN="Bellevue Library":MAILTO:communityservices@bellevueidaho.us
END:VEVENT
BEGIN:VEVENT
DTSTART;TZID=America/Boise:20291205T114500
DTEND;TZID=America/Boise:20291205T120000
DTSTAMP:20260423T101218
CREATED:20250417T223718Z
LAST-MODIFIED:20260123T195549Z
UID:10003028-1891165500-1891166400@bellevueidaho.gov
SUMMARY:Story Time
DESCRIPTION:Storytime for babies and toddlers with an adult.
URL:https://bellevueidaho.gov/event/story-time/2029-12-05/
LOCATION:Bellevue Library\, 117 E. Pine Street\, Bellevue\, ID\, 83313\, United States
CATEGORIES:Library
ATTACH;FMTTYPE=image/png:https://bellevueidaho.gov/wp-content/uploads/2025/04/Storytime.png
ORGANIZER;CN="Bellevue Library":MAILTO:communityservices@bellevueidaho.us
END:VEVENT
BEGIN:VEVENT
DTSTART;TZID=America/Boise:20291212T114500
DTEND;TZID=America/Boise:20291212T120000
DTSTAMP:20260423T101218
CREATED:20250417T223718Z
LAST-MODIFIED:20260123T195549Z
UID:10003029-1891770300-1891771200@bellevueidaho.gov
SUMMARY:Story Time
DESCRIPTION:Storytime for babies and toddlers with an adult.
URL:https://bellevueidaho.gov/event/story-time/2029-12-12/
LOCATION:Bellevue Library\, 117 E. Pine Street\, Bellevue\, ID\, 83313\, United States
CATEGORIES:Library
ATTACH;FMTTYPE=image/png:https://bellevueidaho.gov/wp-content/uploads/2025/04/Storytime.png
ORGANIZER;CN="Bellevue Library":MAILTO:communityservices@bellevueidaho.us
END:VEVENT
BEGIN:VEVENT
DTSTART;TZID=America/Boise:20291219T114500
DTEND;TZID=America/Boise:20291219T120000
DTSTAMP:20260423T101218
CREATED:20250417T223718Z
LAST-MODIFIED:20260123T195549Z
UID:10003030-1892375100-1892376000@bellevueidaho.gov
SUMMARY:Story Time
DESCRIPTION:Storytime for babies and toddlers with an adult.
URL:https://bellevueidaho.gov/event/story-time/2029-12-19/
LOCATION:Bellevue Library\, 117 E. Pine Street\, Bellevue\, ID\, 83313\, United States
CATEGORIES:Library
ATTACH;FMTTYPE=image/png:https://bellevueidaho.gov/wp-content/uploads/2025/04/Storytime.png
ORGANIZER;CN="Bellevue Library":MAILTO:communityservices@bellevueidaho.us
END:VEVENT
BEGIN:VEVENT
DTSTART;TZID=America/Boise:20291226T114500
DTEND;TZID=America/Boise:20291226T120000
DTSTAMP:20260423T101218
CREATED:20250417T223718Z
LAST-MODIFIED:20260123T195549Z
UID:10003031-1892979900-1892980800@bellevueidaho.gov
SUMMARY:Story Time
DESCRIPTION:Storytime for babies and toddlers with an adult.
URL:https://bellevueidaho.gov/event/story-time/2029-12-26/
LOCATION:Bellevue Library\, 117 E. Pine Street\, Bellevue\, ID\, 83313\, United States
CATEGORIES:Library
ATTACH;FMTTYPE=image/png:https://bellevueidaho.gov/wp-content/uploads/2025/04/Storytime.png
ORGANIZER;CN="Bellevue Library":MAILTO:communityservices@bellevueidaho.us
END:VEVENT
BEGIN:VEVENT
DTSTART;TZID=America/Boise:20300102T114500
DTEND;TZID=America/Boise:20300102T120000
DTSTAMP:20260423T101218
CREATED:20250417T223718Z
LAST-MODIFIED:20260123T195549Z
UID:10003032-1893584700-1893585600@bellevueidaho.gov
SUMMARY:Story Time
DESCRIPTION:Storytime for babies and toddlers with an adult.
URL:https://bellevueidaho.gov/event/story-time/2030-01-02/
LOCATION:Bellevue Library\, 117 E. Pine Street\, Bellevue\, ID\, 83313\, United States
CATEGORIES:Library
ATTACH;FMTTYPE=image/png:https://bellevueidaho.gov/wp-content/uploads/2025/04/Storytime.png
ORGANIZER;CN="Bellevue Library":MAILTO:communityservices@bellevueidaho.us
END:VEVENT
BEGIN:VEVENT
DTSTART;TZID=America/Boise:20300109T114500
DTEND;TZID=America/Boise:20300109T120000
DTSTAMP:20260423T101218
CREATED:20250417T223718Z
LAST-MODIFIED:20260123T195549Z
UID:10003033-1894189500-1894190400@bellevueidaho.gov
SUMMARY:Story Time
DESCRIPTION:Storytime for babies and toddlers with an adult.
URL:https://bellevueidaho.gov/event/story-time/2030-01-09/
LOCATION:Bellevue Library\, 117 E. Pine Street\, Bellevue\, ID\, 83313\, United States
CATEGORIES:Library
ATTACH;FMTTYPE=image/png:https://bellevueidaho.gov/wp-content/uploads/2025/04/Storytime.png
ORGANIZER;CN="Bellevue Library":MAILTO:communityservices@bellevueidaho.us
END:VEVENT
BEGIN:VEVENT
DTSTART;TZID=America/Boise:20300116T114500
DTEND;TZID=America/Boise:20300116T120000
DTSTAMP:20260423T101218
CREATED:20250417T223718Z
LAST-MODIFIED:20260123T195549Z
UID:10003034-1894794300-1894795200@bellevueidaho.gov
SUMMARY:Story Time
DESCRIPTION:Storytime for babies and toddlers with an adult.
URL:https://bellevueidaho.gov/event/story-time/2030-01-16/
LOCATION:Bellevue Library\, 117 E. Pine Street\, Bellevue\, ID\, 83313\, United States
CATEGORIES:Library
ATTACH;FMTTYPE=image/png:https://bellevueidaho.gov/wp-content/uploads/2025/04/Storytime.png
ORGANIZER;CN="Bellevue Library":MAILTO:communityservices@bellevueidaho.us
END:VEVENT
BEGIN:VEVENT
DTSTART;TZID=America/Boise:20300123T114500
DTEND;TZID=America/Boise:20300123T120000
DTSTAMP:20260423T101218
CREATED:20250417T223718Z
LAST-MODIFIED:20260123T195549Z
UID:10003035-1895399100-1895400000@bellevueidaho.gov
SUMMARY:Story Time
DESCRIPTION:Storytime for babies and toddlers with an adult.
URL:https://bellevueidaho.gov/event/story-time/2030-01-23/
LOCATION:Bellevue Library\, 117 E. Pine Street\, Bellevue\, ID\, 83313\, United States
CATEGORIES:Library
ATTACH;FMTTYPE=image/png:https://bellevueidaho.gov/wp-content/uploads/2025/04/Storytime.png
ORGANIZER;CN="Bellevue Library":MAILTO:communityservices@bellevueidaho.us
END:VEVENT
BEGIN:VEVENT
DTSTART;TZID=America/Boise:20300130T114500
DTEND;TZID=America/Boise:20300130T120000
DTSTAMP:20260423T101218
CREATED:20250417T223718Z
LAST-MODIFIED:20260123T195549Z
UID:10003036-1896003900-1896004800@bellevueidaho.gov
SUMMARY:Story Time
DESCRIPTION:Storytime for babies and toddlers with an adult.
URL:https://bellevueidaho.gov/event/story-time/2030-01-30/
LOCATION:Bellevue Library\, 117 E. Pine Street\, Bellevue\, ID\, 83313\, United States
CATEGORIES:Library
ATTACH;FMTTYPE=image/png:https://bellevueidaho.gov/wp-content/uploads/2025/04/Storytime.png
ORGANIZER;CN="Bellevue Library":MAILTO:communityservices@bellevueidaho.us
END:VEVENT
BEGIN:VEVENT
DTSTART;TZID=America/Boise:20300206T114500
DTEND;TZID=America/Boise:20300206T120000
DTSTAMP:20260423T101218
CREATED:20250417T223718Z
LAST-MODIFIED:20260123T195549Z
UID:10003037-1896608700-1896609600@bellevueidaho.gov
SUMMARY:Story Time
DESCRIPTION:Storytime for babies and toddlers with an adult.
URL:https://bellevueidaho.gov/event/story-time/2030-02-06/
LOCATION:Bellevue Library\, 117 E. Pine Street\, Bellevue\, ID\, 83313\, United States
CATEGORIES:Library
ATTACH;FMTTYPE=image/png:https://bellevueidaho.gov/wp-content/uploads/2025/04/Storytime.png
ORGANIZER;CN="Bellevue Library":MAILTO:communityservices@bellevueidaho.us
END:VEVENT
END:VCALENDAR